BEGIN:VCALENDAR
VERSION:2.0
PRODID:-//Central Indiana Land Trust - ECPv6.15.12//NONSGML v1.0//EN
CALSCALE:GREGORIAN
METHOD:PUBLISH
X-WR-CALNAME:Central Indiana Land Trust
X-ORIGINAL-URL:https://conservingindiana.org
X-WR-CALDESC:Events for Central Indiana Land Trust
REFRESH-INTERVAL;VALUE=DURATION:PT1H
X-Robots-Tag:noindex
X-PUBLISHED-TTL:PT1H
BEGIN:VTIMEZONE
TZID:America/New_York
BEGIN:DAYLIGHT
TZOFFSETFROM:-0500
TZOFFSETTO:-0400
TZNAME:EDT
DTSTART:20210314T070000
END:DAYLIGHT
BEGIN:STANDARD
TZOFFSETFROM:-0400
TZOFFSETTO:-0500
TZNAME:EST
DTSTART:20211107T060000
END:STANDARD
BEGIN:DAYLIGHT
TZOFFSETFROM:-0500
TZOFFSETTO:-0400
TZNAME:EDT
DTSTART:20220313T070000
END:DAYLIGHT
BEGIN:STANDARD
TZOFFSETFROM:-0400
TZOFFSETTO:-0500
TZNAME:EST
DTSTART:20221106T060000
END:STANDARD
BEGIN:DAYLIGHT
TZOFFSETFROM:-0500
TZOFFSETTO:-0400
TZNAME:EDT
DTSTART:20230312T070000
END:DAYLIGHT
BEGIN:STANDARD
TZOFFSETFROM:-0400
TZOFFSETTO:-0500
TZNAME:EST
DTSTART:20231105T060000
END:STANDARD
END:VTIMEZONE
BEGIN:VEVENT
DTSTART;TZID=America/New_York:20221006T180000
DTEND;TZID=America/New_York:20221006T200000
DTSTAMP:20260425T122319
CREATED:20220707T210310Z
LAST-MODIFIED:20220707T210310Z
UID:10000053-1665079200-1665086400@conservingindiana.org
SUMMARY:Take Flight! A Raptor Evening at Oliver’s Woods
DESCRIPTION:Join us for a program featuring the birds of prey that live and hunt in our region. \n\n\nAbout this event\n\n\n\nJoin Take Flight! Wildlife Education to meet several species of live raptors up close and learn about the amazing adaptations that make these birds so special! Raptors — hawks\, owls\, falcons and their kin — have long held our imagination. See what it’s like to be hawk-eyed or falcon-fast by meeting these magnificent predators up close and hearing the stories of our shared history. \n\n\nAll Ages \nFree – RSVP Required \nWhat to Expect and Bring: \n\nDress in long pants thick enough to stand up to thorns and brush (unfortunately leggings aren’t very protective).\nWear closed-toed shoes that can stand up to mud.\nThis event will take place outside\, warm clothing is suggested.\n\nRegistration: \nPlease preregister through Eventbrite so we know to expect you. \nDirections: \nOliver’s Woods is located at 8825 River Road Indianapolis\, Indiana. Please park in the parking lot adjacent to I-465 and meet staff on foot in front of the house. \nMore Information: \nThe program is brought to us by Take Flight! Wildlife Education\, an organization offering traveling educational programs for schools\, nature centers and other organizations interested in wildlife and ecology.
URL:https://conservingindiana.org/event/take-flight-a-raptor-evening-at-olivers-woods/
LOCATION:Oliver’s Woods\, 8825 River Road\, Indianapolis\, United States
CATEGORIES:Education
ATTACH;FMTTYPE=image/jpeg:https://conservingindiana.org/wp-content/uploads/2022/07/raptor-resized.jpeg
ORGANIZER;CN="Central Indiana Land Trust":MAILTO:sfox@conservingindiana.org
END:VEVENT
BEGIN:VEVENT
DTSTART;TZID=America/New_York:20221006T180000
DTEND;TZID=America/New_York:20221006T200000
DTSTAMP:20260425T122319
CREATED:20220707T210310Z
LAST-MODIFIED:20220707T210310Z
UID:10000179-1665079200-1665086400@conservingindiana.org
SUMMARY:Take Flight! A Raptor Evening at Oliver’s Woods
DESCRIPTION:Join us for a program featuring the birds of prey that live and hunt in our region. \n\n\nAbout this event\n\n\n\nJoin Take Flight! Wildlife Education to meet several species of live raptors up close and learn about the amazing adaptations that make these birds so special! Raptors — hawks\, owls\, falcons and their kin — have long held our imagination. See what it’s like to be hawk-eyed or falcon-fast by meeting these magnificent predators up close and hearing the stories of our shared history. \n\n\nAll Ages \nFree – RSVP Required \nWhat to Expect and Bring: \n\nDress in long pants thick enough to stand up to thorns and brush (unfortunately leggings aren’t very protective).\nWear closed-toed shoes that can stand up to mud.\nThis event will take place outside\, warm clothing is suggested.\n\nRegistration: \nPlease preregister through Eventbrite so we know to expect you. \nDirections: \nOliver’s Woods is located at 8825 River Road Indianapolis\, Indiana. Please park in the parking lot adjacent to I-465 and meet staff on foot in front of the house. \nMore Information: \nThe program is brought to us by Take Flight! Wildlife Education\, an organization offering traveling educational programs for schools\, nature centers and other organizations interested in wildlife and ecology.
URL:https://conservingindiana.org/event/take-flight-a-raptor-evening-at-olivers-woods-2/
LOCATION:Oliver’s Woods\, 8825 River Road\, Indianapolis\, United States
CATEGORIES:Education
ATTACH;FMTTYPE=image/jpeg:https://conservingindiana.org/wp-content/uploads/2022/07/raptor-resized.jpeg
ORGANIZER;CN="Central Indiana Land Trust":MAILTO:sfox@conservingindiana.org
END:VEVENT
END:VCALENDAR