BEGIN:VCALENDAR
VERSION:2.0
PRODID:-//Central Indiana Land Trust - ECPv6.15.12//NONSGML v1.0//EN
CALSCALE:GREGORIAN
METHOD:PUBLISH
X-WR-CALNAME:Central Indiana Land Trust
X-ORIGINAL-URL:https://conservingindiana.org
X-WR-CALDESC:Events for Central Indiana Land Trust
REFRESH-INTERVAL;VALUE=DURATION:PT1H
X-Robots-Tag:noindex
X-PUBLISHED-TTL:PT1H
BEGIN:VTIMEZONE
TZID:America/New_York
BEGIN:DAYLIGHT
TZOFFSETFROM:-0500
TZOFFSETTO:-0400
TZNAME:EDT
DTSTART:20220313T070000
END:DAYLIGHT
BEGIN:STANDARD
TZOFFSETFROM:-0400
TZOFFSETTO:-0500
TZNAME:EST
DTSTART:20221106T060000
END:STANDARD
BEGIN:DAYLIGHT
TZOFFSETFROM:-0500
TZOFFSETTO:-0400
TZNAME:EDT
DTSTART:20230312T070000
END:DAYLIGHT
BEGIN:STANDARD
TZOFFSETFROM:-0400
TZOFFSETTO:-0500
TZNAME:EST
DTSTART:20231105T060000
END:STANDARD
BEGIN:DAYLIGHT
TZOFFSETFROM:-0500
TZOFFSETTO:-0400
TZNAME:EDT
DTSTART:20240310T070000
END:DAYLIGHT
BEGIN:STANDARD
TZOFFSETFROM:-0400
TZOFFSETTO:-0500
TZNAME:EST
DTSTART:20241103T060000
END:STANDARD
END:VTIMEZONE
BEGIN:VEVENT
DTSTART;TZID=America/New_York:20230401T100000
DTEND;TZID=America/New_York:20230401T130000
DTSTAMP:20260423T040331
CREATED:20230227T212616Z
LAST-MODIFIED:20230227T212616Z
UID:10000063-1680343200-1680354000@conservingindiana.org
SUMMARY:Help Pull Garlic Mustard and other invasive plants at Meltzer Woods
DESCRIPTION:We need your help pulling garlic mustard and other invasive plants at Meltzer Woods Nature Preserve so we can welcome back the native plants. \nAbout this event\nAll Ages \nPlease RSVP (so we know to expect you) \nWhat to Expect and Bring \n• Volunteers will remove the plants and roots by hand. Dress in long pants thick enough to stand up to thorns\, brush\, poison ivy\, ticks\, and mosquitos (unfortunately leggings aren’t very protective). \n• Bring gardening or work gloves. If you don’t have gloves\, we will provide some. \n• Wear clothes you don’t mind getting dirty. \n• Wear closed-toed shoes that can stand up to mud. \n• Dress for the weather as we will work rain or shine. \nDirections \nMeltzer Woods is located near Shelbyville and is a short 35 minute drive from Indianapolis. From Indianapolis\, take I74 E to IN 244 E\, then turn left onto S 600 East. Staff will meet you in the parking lot. Map: @Meltzer Woods \nWhat else can I do? \nAfter visiting an area that has invasive weeds present\, clean up before you leave the site. Make sure your clothes\, boots\, vehicles\, and pets are seed free. Use plants native to Central Indiana in your yard and garden.
URL:https://conservingindiana.org/event/help-pull-garlic-mustard-and-other-invasive-plants-at-meltzer-woods/2023-04-01/
LOCATION:Meltzer Woods\, 1522 S 600 E\, Shelbyville\, IN\, 46176\, United States
CATEGORIES:Volunteer event
ATTACH;FMTTYPE=image/jpeg:https://conservingindiana.org/wp-content/uploads/2023/02/Meltzer-Invasive-Pull-header.jpg
ORGANIZER;CN="Central Indiana Land Trust":MAILTO:sfox@conservingindiana.org
END:VEVENT
BEGIN:VEVENT
DTSTART;TZID=America/New_York:20230401T100000
DTEND;TZID=America/New_York:20230401T130000
DTSTAMP:20260423T040331
CREATED:20230227T212616Z
LAST-MODIFIED:20230227T212616Z
UID:10000189-1680343200-1680354000@conservingindiana.org
SUMMARY:Help Pull Garlic Mustard and other invasive plants at Meltzer Woods
DESCRIPTION:We need your help pulling garlic mustard and other invasive plants at Meltzer Woods Nature Preserve so we can welcome back the native plants. \nAbout this event\nAll Ages \nPlease RSVP (so we know to expect you) \nWhat to Expect and Bring \n• Volunteers will remove the plants and roots by hand. Dress in long pants thick enough to stand up to thorns\, brush\, poison ivy\, ticks\, and mosquitos (unfortunately leggings aren’t very protective). \n• Bring gardening or work gloves. If you don’t have gloves\, we will provide some. \n• Wear clothes you don’t mind getting dirty. \n• Wear closed-toed shoes that can stand up to mud. \n• Dress for the weather as we will work rain or shine. \nDirections \nMeltzer Woods is located near Shelbyville and is a short 35 minute drive from Indianapolis. From Indianapolis\, take I74 E to IN 244 E\, then turn left onto S 600 East. Staff will meet you in the parking lot. Map: @Meltzer Woods \nWhat else can I do? \nAfter visiting an area that has invasive weeds present\, clean up before you leave the site. Make sure your clothes\, boots\, vehicles\, and pets are seed free. Use plants native to Central Indiana in your yard and garden.
URL:https://conservingindiana.org/event/help-pull-garlic-mustard-and-other-invasive-plants-at-meltzer-woods-2/2023-04-01/
LOCATION:Meltzer Woods\, 1522 S 600 E\, Shelbyville\, IN\, 46176\, United States
CATEGORIES:Volunteer event
ATTACH;FMTTYPE=image/jpeg:https://conservingindiana.org/wp-content/uploads/2023/02/Meltzer-Invasive-Pull-header.jpg
ORGANIZER;CN="Central Indiana Land Trust":MAILTO:sfox@conservingindiana.org
END:VEVENT
END:VCALENDAR