BEGIN:VCALENDAR
VERSION:2.0
PRODID:-//Central Indiana Land Trust - ECPv6.15.12//NONSGML v1.0//EN
CALSCALE:GREGORIAN
METHOD:PUBLISH
X-ORIGINAL-URL:https://conservingindiana.org
X-WR-CALDESC:Events for Central Indiana Land Trust
REFRESH-INTERVAL;VALUE=DURATION:PT1H
X-Robots-Tag:noindex
X-PUBLISHED-TTL:PT1H
BEGIN:VTIMEZONE
TZID:America/New_York
BEGIN:DAYLIGHT
TZOFFSETFROM:-0500
TZOFFSETTO:-0400
TZNAME:EDT
DTSTART:20220313T070000
END:DAYLIGHT
BEGIN:STANDARD
TZOFFSETFROM:-0400
TZOFFSETTO:-0500
TZNAME:EST
DTSTART:20221106T060000
END:STANDARD
BEGIN:DAYLIGHT
TZOFFSETFROM:-0500
TZOFFSETTO:-0400
TZNAME:EDT
DTSTART:20230312T070000
END:DAYLIGHT
BEGIN:STANDARD
TZOFFSETFROM:-0400
TZOFFSETTO:-0500
TZNAME:EST
DTSTART:20231105T060000
END:STANDARD
BEGIN:DAYLIGHT
TZOFFSETFROM:-0500
TZOFFSETTO:-0400
TZNAME:EDT
DTSTART:20240310T070000
END:DAYLIGHT
BEGIN:STANDARD
TZOFFSETFROM:-0400
TZOFFSETTO:-0500
TZNAME:EST
DTSTART:20241103T060000
END:STANDARD
END:VTIMEZONE
BEGIN:VEVENT
DTSTART;TZID=America/New_York:20230420T173000
DTEND;TZID=America/New_York:20230420T193000
DTSTAMP:20260423T034924
CREATED:20230313T210906Z
LAST-MODIFIED:20230313T210906Z
UID:10000071-1682011800-1682019000@conservingindiana.org
SUMMARY:Volunteer Appreciation Open House at Oliver's Woods
DESCRIPTION:Join us for a volunteer APPRECIATION event to recognize your contributions to our organization. \n\n\nLet us celebrate YOU during National Volunteer Month. This month-long event is celebrated in both Canada and the USA. Although our appreciation lasts all year long\, April is a great time for special recognition! #NationalVolunteerMonth \n\nIf you’ve volunteered for us\, you’re invited and bring your family and friends.\nAll Ages\nPlease RSVP so we know to expect you.\n\nWhat to Expect and Bring: \n\nNo need to bring a thing! We are going to take care of you for a change!\nWe’ll have snacks and drinks.\nAttendees will receive CILTI swag and be entered into a drawing for a CILTI hoodie and more.\n\nDirections: \nOliver’s Woods is located at 8825 River Road Indianapolis\, Indiana. Please park in the parking lot adjacent to I-465 and we’ll meet in the Daugherty House.
URL:https://conservingindiana.org/event/volunteer-appreciation-open-house-at-olivers-woods/
LOCATION:Oliver’s Woods\, 8825 River Road\, Indianapolis\, United States
CATEGORIES:Member Celebration
ATTACH;FMTTYPE=image/jpeg:https://conservingindiana.org/wp-content/uploads/2023/03/Untitled-design.jpg
ORGANIZER;CN="Central Indiana Land Trust":MAILTO:sfox@conservingindiana.org
END:VEVENT
BEGIN:VEVENT
DTSTART;TZID=America/New_York:20230420T173000
DTEND;TZID=America/New_York:20230420T193000
DTSTAMP:20260423T034924
CREATED:20230313T210906Z
LAST-MODIFIED:20230313T210906Z
UID:10000197-1682011800-1682019000@conservingindiana.org
SUMMARY:Volunteer Appreciation Open House at Oliver's Woods
DESCRIPTION:Join us for a volunteer APPRECIATION event to recognize your contributions to our organization. \n\n\nLet us celebrate YOU during National Volunteer Month. This month-long event is celebrated in both Canada and the USA. Although our appreciation lasts all year long\, April is a great time for special recognition! #NationalVolunteerMonth \n\nIf you’ve volunteered for us\, you’re invited and bring your family and friends.\nAll Ages\nPlease RSVP so we know to expect you.\n\nWhat to Expect and Bring: \n\nNo need to bring a thing! We are going to take care of you for a change!\nWe’ll have snacks and drinks.\nAttendees will receive CILTI swag and be entered into a drawing for a CILTI hoodie and more.\n\nDirections: \nOliver’s Woods is located at 8825 River Road Indianapolis\, Indiana. Please park in the parking lot adjacent to I-465 and we’ll meet in the Daugherty House.
URL:https://conservingindiana.org/event/volunteer-appreciation-open-house-at-olivers-woods-2/
LOCATION:Oliver’s Woods\, 8825 River Road\, Indianapolis\, United States
CATEGORIES:Member Celebration
ATTACH;FMTTYPE=image/jpeg:https://conservingindiana.org/wp-content/uploads/2023/03/Untitled-design.jpg
ORGANIZER;CN="Central Indiana Land Trust":MAILTO:sfox@conservingindiana.org
END:VEVENT
END:VCALENDAR