BEGIN:VCALENDAR
VERSION:2.0
PRODID:-//Central Indiana Land Trust - ECPv6.15.12//NONSGML v1.0//EN
CALSCALE:GREGORIAN
METHOD:PUBLISH
X-WR-CALNAME:Central Indiana Land Trust
X-ORIGINAL-URL:https://conservingindiana.org
X-WR-CALDESC:Events for Central Indiana Land Trust
REFRESH-INTERVAL;VALUE=DURATION:PT1H
X-Robots-Tag:noindex
X-PUBLISHED-TTL:PT1H
BEGIN:VTIMEZONE
TZID:America/New_York
BEGIN:DAYLIGHT
TZOFFSETFROM:-0500
TZOFFSETTO:-0400
TZNAME:EDT
DTSTART:20220313T070000
END:DAYLIGHT
BEGIN:STANDARD
TZOFFSETFROM:-0400
TZOFFSETTO:-0500
TZNAME:EST
DTSTART:20221106T060000
END:STANDARD
BEGIN:DAYLIGHT
TZOFFSETFROM:-0500
TZOFFSETTO:-0400
TZNAME:EDT
DTSTART:20230312T070000
END:DAYLIGHT
BEGIN:STANDARD
TZOFFSETFROM:-0400
TZOFFSETTO:-0500
TZNAME:EST
DTSTART:20231105T060000
END:STANDARD
BEGIN:DAYLIGHT
TZOFFSETFROM:-0500
TZOFFSETTO:-0400
TZNAME:EDT
DTSTART:20240310T070000
END:DAYLIGHT
BEGIN:STANDARD
TZOFFSETFROM:-0400
TZOFFSETTO:-0500
TZNAME:EST
DTSTART:20241103T060000
END:STANDARD
END:VTIMEZONE
BEGIN:VEVENT
DTSTART;TZID=America/New_York:20230516T073000
DTEND;TZID=America/New_York:20230516T093000
DTSTAMP:20260423T035710
CREATED:20230315T203625Z
LAST-MODIFIED:20230315T203625Z
UID:10000074-1684222200-1684229400@conservingindiana.org
SUMMARY:Tuesday Morning Birding Walks with an Expert - May 16
DESCRIPTION:Join an expert birder to go birdwatching in White River Bluffs Nature Preserve! \n\n\nCentral Indiana Land Trust’s nature preserves offer a safe harbor for countless bird species. We’re teaming up with expert birder Rob Ripma\, co-owner of Sabrewing Nature Tours\, for this series. This is a rare chance to enjoy guided birding tours of our region’s most biodiverse places. Join us to search for migratory birds and year-round avian residents. We will likely train our binoculars on waterbirds\, orioles\, bluebirds\, flycatchers\, raptors\, migratory warblers—and many more. \nWe’ll visit a variety of nature preserves\, exploring woodlands\, meadows\, streams\, and river frontage managed by Central Indiana Land Trust. \nAll are welcome\, including people with no birding experience. The best way to get started is to go with a seasoned guide like Rob. \nAll ages \nFree of Charge – RSVP required \nWhat to Expect and Bring: \n\nScope or binoculars. We will have a small quantity to share with the group.\nDress for the weather and be sure to wear pants thick enough to stand up to thorns\, brush\, poison ivy\, ticks\, and mosquitos (unfortunately leggings aren’t very protective).\nWear closed-toed shoes that can stand up to mud.\n\nRSVP \nPlease click here to preregister via Eventbrite so we know to expect you. \nDirections: \nWhite River Bluffs Nature Preserve is located adjacent to Highland Golf and Country Club\, 1050 West 52nd Street Indianapolis\, Indiana. Parking is by the tennis courts to the north of the club house. Our staff will meet you there. See attached map. \n \n\n  \nMore Information: \nLearn more about Rob Ripma and Sabrewing Nature Tours. \n“I’ve been birding in Indiana since I was a teenager and can say without a doubt that there’s no more thrilling time to birdwatch in our state than during spring migration. During the month of May\, the pace of migration picks up\, and there are new and amazing things to see every day. CILTI properties and other local natural areas are stopover sites that are critical to birds’ ability to feed and prepare for their next flight north.” –Rob Ripma\, in “The Greatest Spectacle in Birding\,” written for our spring 2021 newsmagazine
URL:https://conservingindiana.org/event/tuesday-morning-birding-walks-with-an-expert-may-16/
LOCATION:White River Bluffs\, 1050 West 52nd Street\, Indianapolis\, IN\, 46228\, United States
CATEGORIES:Naturalist Program
ATTACH;FMTTYPE=image/jpeg:https://conservingindiana.org/wp-content/uploads/2023/03/Birding-Series-Image-2-scaled-1.jpeg
ORGANIZER;CN="Central Indiana Land Trust":MAILTO:sfox@conservingindiana.org
END:VEVENT
BEGIN:VEVENT
DTSTART;TZID=America/New_York:20230516T073000
DTEND;TZID=America/New_York:20230516T093000
DTSTAMP:20260423T035710
CREATED:20230315T203625Z
LAST-MODIFIED:20230315T203625Z
UID:10000200-1684222200-1684229400@conservingindiana.org
SUMMARY:Tuesday Morning Birding Walks with an Expert - May 16
DESCRIPTION:Join an expert birder to go birdwatching in White River Bluffs Nature Preserve! \n\n\nCentral Indiana Land Trust’s nature preserves offer a safe harbor for countless bird species. We’re teaming up with expert birder Rob Ripma\, co-owner of Sabrewing Nature Tours\, for this series. This is a rare chance to enjoy guided birding tours of our region’s most biodiverse places. Join us to search for migratory birds and year-round avian residents. We will likely train our binoculars on waterbirds\, orioles\, bluebirds\, flycatchers\, raptors\, migratory warblers—and many more. \nWe’ll visit a variety of nature preserves\, exploring woodlands\, meadows\, streams\, and river frontage managed by Central Indiana Land Trust. \nAll are welcome\, including people with no birding experience. The best way to get started is to go with a seasoned guide like Rob. \nAll ages \nFree of Charge – RSVP required \nWhat to Expect and Bring: \n\nScope or binoculars. We will have a small quantity to share with the group.\nDress for the weather and be sure to wear pants thick enough to stand up to thorns\, brush\, poison ivy\, ticks\, and mosquitos (unfortunately leggings aren’t very protective).\nWear closed-toed shoes that can stand up to mud.\n\nRSVP \nPlease click here to preregister via Eventbrite so we know to expect you. \nDirections: \nWhite River Bluffs Nature Preserve is located adjacent to Highland Golf and Country Club\, 1050 West 52nd Street Indianapolis\, Indiana. Parking is by the tennis courts to the north of the club house. Our staff will meet you there. See attached map. \n \n\n  \nMore Information: \nLearn more about Rob Ripma and Sabrewing Nature Tours. \n“I’ve been birding in Indiana since I was a teenager and can say without a doubt that there’s no more thrilling time to birdwatch in our state than during spring migration. During the month of May\, the pace of migration picks up\, and there are new and amazing things to see every day. CILTI properties and other local natural areas are stopover sites that are critical to birds’ ability to feed and prepare for their next flight north.” –Rob Ripma\, in “The Greatest Spectacle in Birding\,” written for our spring 2021 newsmagazine
URL:https://conservingindiana.org/event/tuesday-morning-birding-walks-with-an-expert-may-16-2/
LOCATION:White River Bluffs\, 1050 West 52nd Street\, Indianapolis\, IN\, 46228\, United States
CATEGORIES:Naturalist Program
ATTACH;FMTTYPE=image/jpeg:https://conservingindiana.org/wp-content/uploads/2023/03/Birding-Series-Image-2-scaled-1.jpeg
ORGANIZER;CN="Central Indiana Land Trust":MAILTO:sfox@conservingindiana.org
END:VEVENT
END:VCALENDAR