BEGIN:VCALENDAR
VERSION:2.0
PRODID:-//Central Indiana Land Trust - ECPv6.15.12//NONSGML v1.0//EN
CALSCALE:GREGORIAN
METHOD:PUBLISH
X-ORIGINAL-URL:https://conservingindiana.org
X-WR-CALDESC:Events for Central Indiana Land Trust
REFRESH-INTERVAL;VALUE=DURATION:PT1H
X-Robots-Tag:noindex
X-PUBLISHED-TTL:PT1H
BEGIN:VTIMEZONE
TZID:UTC
BEGIN:STANDARD
TZOFFSETFROM:+0000
TZOFFSETTO:+0000
TZNAME:UTC
DTSTART:20220101T000000
END:STANDARD
END:VTIMEZONE
BEGIN:VEVENT
DTSTART;TZID=UTC:20230517T100000
DTEND;TZID=UTC:20230517T130000
DTSTAMP:20260423T034925
CREATED:20230321T195353Z
LAST-MODIFIED:20230321T195353Z
UID:10000077-1684317600-1684328400@conservingindiana.org
SUMMARY:Tree Planting at Meltzer Woods Nature Preserve Addition in Shelby County
DESCRIPTION:Join us to plant trees in the Meltzer Woods Nature Preserve Lawrence and Martha Meltzer Spalding Addition \nAll Ages \nPlease RSVP so we know to expect you. \nWhat to Expect and Bring: \n• Dress in long pants thick enough to stand up to thorns\, brush\, poison ivy\, ticks\, and mosquitos (unfortunately leggings aren’t very protective). \n• Bring gardening or work gloves. If you don’t have gloves\, we will provide some. \n• Wear closed-toe shoes and clothes you don’t mind getting dirty. \n• Dress for the weather as we will work rain or shine. \n• Bring your own water bottle. \nDirections: \nMeltzer Woods is located near Shelbyville and is a short 35 minute drive from Indianapolis. From Indianapolis\, take I74 E to IN 244 E\, then turn left onto S 600 East. Staff will meet you in the parking lot. Map: @Meltzer Woods
URL:https://conservingindiana.org/event/6213/
LOCATION:Meltzer Woods\, 1522 S 600 E\, Shelbyville\, IN\, 46176\, United States
CATEGORIES:Volunteer event
ATTACH;FMTTYPE=image/png:https://conservingindiana.org/wp-content/uploads/2023/03/Tree-Plant-header.png
ORGANIZER;CN="Central Indiana Land Trust":MAILTO:sfox@conservingindiana.org
END:VEVENT
BEGIN:VEVENT
DTSTART;TZID=UTC:20230517T100000
DTEND;TZID=UTC:20230517T130000
DTSTAMP:20260423T034925
CREATED:20230321T195353Z
LAST-MODIFIED:20230321T195353Z
UID:10000203-1684317600-1684328400@conservingindiana.org
SUMMARY:Tree Planting at Meltzer Woods Nature Preserve Addition in Shelby County
DESCRIPTION:Join us to plant trees in the Meltzer Woods Nature Preserve Lawrence and Martha Meltzer Spalding Addition \nAll Ages \nPlease RSVP so we know to expect you. \nWhat to Expect and Bring: \n• Dress in long pants thick enough to stand up to thorns\, brush\, poison ivy\, ticks\, and mosquitos (unfortunately leggings aren’t very protective). \n• Bring gardening or work gloves. If you don’t have gloves\, we will provide some. \n• Wear closed-toe shoes and clothes you don’t mind getting dirty. \n• Dress for the weather as we will work rain or shine. \n• Bring your own water bottle. \nDirections: \nMeltzer Woods is located near Shelbyville and is a short 35 minute drive from Indianapolis. From Indianapolis\, take I74 E to IN 244 E\, then turn left onto S 600 East. Staff will meet you in the parking lot. Map: @Meltzer Woods
URL:https://conservingindiana.org/event/6213-2/
LOCATION:Meltzer Woods\, 1522 S 600 E\, Shelbyville\, IN\, 46176\, United States
CATEGORIES:Volunteer event
ATTACH;FMTTYPE=image/png:https://conservingindiana.org/wp-content/uploads/2023/03/Tree-Plant-header.png
ORGANIZER;CN="Central Indiana Land Trust":MAILTO:sfox@conservingindiana.org
END:VEVENT
END:VCALENDAR