BEGIN:VCALENDAR
VERSION:2.0
PRODID:-//Central Indiana Land Trust - ECPv6.15.12//NONSGML v1.0//EN
CALSCALE:GREGORIAN
METHOD:PUBLISH
X-ORIGINAL-URL:https://conservingindiana.org
X-WR-CALDESC:Events for Central Indiana Land Trust
REFRESH-INTERVAL;VALUE=DURATION:PT1H
X-Robots-Tag:noindex
X-PUBLISHED-TTL:PT1H
BEGIN:VTIMEZONE
TZID:UTC
BEGIN:STANDARD
TZOFFSETFROM:+0000
TZOFFSETTO:+0000
TZNAME:UTC
DTSTART:20220101T000000
END:STANDARD
END:VTIMEZONE
BEGIN:VEVENT
DTSTART;TZID=UTC:20230518T193000
DTEND;TZID=UTC:20230518T213000
DTSTAMP:20260423T034457
CREATED:20230417T173420Z
LAST-MODIFIED:20230417T173420Z
UID:10000204-1684438200-1684445400@conservingindiana.org
SUMMARY:Smartphone Secrets for Great Wildflower Photos with Emily Persic
DESCRIPTION:Join us for the Golden Hour Summer Series at  Oliver’s Woods. In May\, we’ll learn about wildflower photography. \nLearn to capture wildflower images like a pro—using only your smartphone. The warm light of the Golden Hour is ideal for nature photography. Emily Persic of Raincliffs Photography will share secrets for getting that perfect closeup shot. \nAll Ages \nPlease RSVP so we know to expect you. \nWhat to Expect and Bring: \n\nMake sure your cell phone is charged.\nIf you have a headlamp\, please bring it. We will have a few available to share with the group.\nDress for the weather and be sure to wear pants thick enough to stand up to thorns\, brush\, poison ivy\, ticks\, and mosquitos (unfortunately leggings aren’t very protective).\nWear closed-toed shoes that can stand up to mud.\n\nDirections: Oliver’s Woods is located at 8825 River Road Indianapolis\, Indiana. Please park in the parking lot adjacent to I-465 and follow the trail to the discussion circle. Please plan to arrive on time. \nMore information on Emily Persic and her work can be found at raincliffsphotography.com.
URL:https://conservingindiana.org/event/smartphone-secrets-for-great-wildflower-photos-with-emily-persic-2/
LOCATION:Oliver’s Woods\, 8825 River Road\, Indianapolis\, United States
CATEGORIES:Naturalist Program
ATTACH;FMTTYPE=image/png:https://conservingindiana.org/wp-content/uploads/2023/04/Wildflower-Header.png
ORGANIZER;CN="Central Indiana Land Trust":MAILTO:sfox@conservingindiana.org
END:VEVENT
BEGIN:VEVENT
DTSTART;TZID=UTC:20230518T193000
DTEND;TZID=UTC:20230518T213000
DTSTAMP:20260423T034457
CREATED:20230417T173420Z
LAST-MODIFIED:20230417T173420Z
UID:10000078-1684438200-1684445400@conservingindiana.org
SUMMARY:Smartphone Secrets for Great Wildflower Photos with Emily Persic
DESCRIPTION:Join us for the Golden Hour Summer Series at  Oliver’s Woods. In May\, we’ll learn about wildflower photography. \nLearn to capture wildflower images like a pro—using only your smartphone. The warm light of the Golden Hour is ideal for nature photography. Emily Persic of Raincliffs Photography will share secrets for getting that perfect closeup shot. \nAll Ages \nPlease RSVP so we know to expect you. \nWhat to Expect and Bring: \n\nMake sure your cell phone is charged.\nIf you have a headlamp\, please bring it. We will have a few available to share with the group.\nDress for the weather and be sure to wear pants thick enough to stand up to thorns\, brush\, poison ivy\, ticks\, and mosquitos (unfortunately leggings aren’t very protective).\nWear closed-toed shoes that can stand up to mud.\n\nDirections: Oliver’s Woods is located at 8825 River Road Indianapolis\, Indiana. Please park in the parking lot adjacent to I-465 and follow the trail to the discussion circle. Please plan to arrive on time. \nMore information on Emily Persic and her work can be found at raincliffsphotography.com.
URL:https://conservingindiana.org/event/smartphone-secrets-for-great-wildflower-photos-with-emily-persic/
LOCATION:Oliver’s Woods\, 8825 River Road\, Indianapolis\, United States
CATEGORIES:Naturalist Program
ATTACH;FMTTYPE=image/png:https://conservingindiana.org/wp-content/uploads/2023/04/Wildflower-Header.png
ORGANIZER;CN="Central Indiana Land Trust":MAILTO:sfox@conservingindiana.org
END:VEVENT
END:VCALENDAR