BEGIN:VCALENDAR
VERSION:2.0
PRODID:-//Central Indiana Land Trust - ECPv6.15.12//NONSGML v1.0//EN
CALSCALE:GREGORIAN
METHOD:PUBLISH
X-ORIGINAL-URL:https://conservingindiana.org
X-WR-CALDESC:Events for Central Indiana Land Trust
REFRESH-INTERVAL;VALUE=DURATION:PT1H
X-Robots-Tag:noindex
X-PUBLISHED-TTL:PT1H
BEGIN:VTIMEZONE
TZID:UTC
BEGIN:STANDARD
TZOFFSETFROM:+0000
TZOFFSETTO:+0000
TZNAME:UTC
DTSTART:20220101T000000
END:STANDARD
END:VTIMEZONE
BEGIN:VEVENT
DTSTART;TZID=UTC:20230720T193000
DTEND;TZID=UTC:20230720T213000
DTSTAMP:20260423T054933
CREATED:20230417T182420Z
LAST-MODIFIED:20230417T182420Z
UID:10000080-1689881400-1689888600@conservingindiana.org
SUMMARY:Where are the Fireflies? with Dr. Sérgio Henriques
DESCRIPTION:Tickets will be available after June 1st. \nJoin us for the Golden Hour Summer Series at  Oliver’s Woods. In July\, we’ll learn about fireflies. \nDid you know that Indiana’s state insect is Say’s Firefly? Dr. Sérgio Henriques\, a conservationist with the Indianapolis Zoo\, will share fireflies’ importance in the ecosystem. Learn how to help these iconic insects while exploring Oliver’s Woods to look for the fireflies that make this preserve their home. \nAll Ages \nPlease RSVP (available after June 1) so we know to expect you. \nWhat to Expect and Bring: \n\nIf you have a headlamp\, please bring it. We will have a few available to share with the group.\nDress for the weather and be sure to wear pants thick enough to stand up to thorns\, brush\, poison ivy\, ticks\, and mosquitos (unfortunately leggings aren’t very protective).\nWear closed-toed shoes that can stand up to mud.\n\nDirections: Oliver’s Woods is located at 8825 River Road Indianapolis\, Indiana. Please park in the parking lot adjacent to I-465 and follow the trail to the discussion circle. Please plan to arrive on time. \nMore Information: Dr. Sérgio Henriques is Invertebrate Conservation Coordinator for the Global Center for Species Survival\, a partnership between the Indianapolis Zoo and the International Union for Conservation of Nature’s Species Survival Commission. As the chair of the organization’s Spider and Scorpion Specialist Group\, Dr. Henriques uses his more than 20 years of experience mobilizing resources to promote invertebrate conservation.
URL:https://conservingindiana.org/event/where-are-the-fireflies-with-dr-sergio-henriques/
LOCATION:Oliver’s Woods\, 8825 River Road\, Indianapolis\, United States
CATEGORIES:Naturalist Program
ATTACH;FMTTYPE=image/png:https://conservingindiana.org/wp-content/uploads/2023/04/Firefly-Header.png
ORGANIZER;CN="Central Indiana Land Trust":MAILTO:sfox@conservingindiana.org
END:VEVENT
BEGIN:VEVENT
DTSTART;TZID=UTC:20230720T193000
DTEND;TZID=UTC:20230720T213000
DTSTAMP:20260423T054933
CREATED:20230417T182420Z
LAST-MODIFIED:20230417T182420Z
UID:10000206-1689881400-1689888600@conservingindiana.org
SUMMARY:Where are the Fireflies? with Dr. Sérgio Henriques
DESCRIPTION:Tickets will be available after June 1st. \nJoin us for the Golden Hour Summer Series at  Oliver’s Woods. In July\, we’ll learn about fireflies. \nDid you know that Indiana’s state insect is Say’s Firefly? Dr. Sérgio Henriques\, a conservationist with the Indianapolis Zoo\, will share fireflies’ importance in the ecosystem. Learn how to help these iconic insects while exploring Oliver’s Woods to look for the fireflies that make this preserve their home. \nAll Ages \nPlease RSVP (available after June 1) so we know to expect you. \nWhat to Expect and Bring: \n\nIf you have a headlamp\, please bring it. We will have a few available to share with the group.\nDress for the weather and be sure to wear pants thick enough to stand up to thorns\, brush\, poison ivy\, ticks\, and mosquitos (unfortunately leggings aren’t very protective).\nWear closed-toed shoes that can stand up to mud.\n\nDirections: Oliver’s Woods is located at 8825 River Road Indianapolis\, Indiana. Please park in the parking lot adjacent to I-465 and follow the trail to the discussion circle. Please plan to arrive on time. \nMore Information: Dr. Sérgio Henriques is Invertebrate Conservation Coordinator for the Global Center for Species Survival\, a partnership between the Indianapolis Zoo and the International Union for Conservation of Nature’s Species Survival Commission. As the chair of the organization’s Spider and Scorpion Specialist Group\, Dr. Henriques uses his more than 20 years of experience mobilizing resources to promote invertebrate conservation.
URL:https://conservingindiana.org/event/where-are-the-fireflies-with-dr-sergio-henriques-2/
LOCATION:Oliver’s Woods\, 8825 River Road\, Indianapolis\, United States
CATEGORIES:Naturalist Program
ATTACH;FMTTYPE=image/png:https://conservingindiana.org/wp-content/uploads/2023/04/Firefly-Header.png
ORGANIZER;CN="Central Indiana Land Trust":MAILTO:sfox@conservingindiana.org
END:VEVENT
END:VCALENDAR