BEGIN:VCALENDAR
VERSION:2.0
PRODID:-//Central Indiana Land Trust - ECPv6.15.12//NONSGML v1.0//EN
CALSCALE:GREGORIAN
METHOD:PUBLISH
X-WR-CALNAME:Central Indiana Land Trust
X-ORIGINAL-URL:https://conservingindiana.org
X-WR-CALDESC:Events for Central Indiana Land Trust
REFRESH-INTERVAL;VALUE=DURATION:PT1H
X-Robots-Tag:noindex
X-PUBLISHED-TTL:PT1H
BEGIN:VTIMEZONE
TZID:UTC
BEGIN:STANDARD
TZOFFSETFROM:+0000
TZOFFSETTO:+0000
TZNAME:UTC
DTSTART:20220101T000000
END:STANDARD
END:VTIMEZONE
BEGIN:VEVENT
DTSTART;TZID=UTC:20230913T100000
DTEND;TZID=UTC:20230913T130000
DTSTAMP:20260423T085559
CREATED:20230824T202310Z
LAST-MODIFIED:20230824T202310Z
UID:10000085-1694599200-1694610000@conservingindiana.org
SUMMARY:Help Pull Invasive Winter Creeper at Oliver's Woods
DESCRIPTION:Join our Stewardship team to get the preserve looking less “creepy”. \n\n\n\nAll Ages \nPlease RSVP so we know you’re coming. \nWhat to Expect and Bring: \n• Volunteers will remove plants by hand. \n• Dress in long pants thick enough to stand up to thorns\, brush\, poison ivy\, ticks\, and mosquitos (unfortunately leggings aren’t very protective). \n• Wear clothes you don’t mind getting dirty and closed-toed shoes that can stand up to mud. \n• Bring gardening or work gloves. If you don’t have gloves\, we will provide some. \n• Bring water bottle\, preferably refillable. \n• Dress for the weather as we will work rain or shine. \n• In case of inclement weather\, check email for updates. \nDirections: Oliver’s Woods is located at 8825 River Road Indianapolis\, Indiana. Please park in the parking lot adjacent to I-465 and meet staff on foot in front of the house. \nMore information on Wintercreeper: Wintercreeper is a vigorous vine that invades forest openings and margins. It grows across the ground\, displacing herbaceous plants and seedlings and climbs trees high into the tree canopy by clinging to the bark. Forest openings\, caused by wind\, insects\, or fire are especially vulnerable to invasion. \nWhat else can I do? After visiting an area that has invasive weeds present\, clean up before you leave the site. Make sure your clothes\, boots\, vehicles\, and pets are seed free. Use plants native to Central Indiana in your yard and garden.
URL:https://conservingindiana.org/event/help-pull-invasive-winter-creeper-at-olivers-woods/
LOCATION:Oliver’s Woods\, 8825 River Road\, Indianapolis\, United States
CATEGORIES:Volunteer event
ATTACH;FMTTYPE=image/jpeg:https://conservingindiana.org/wp-content/uploads/2023/08/winter-creeper-John-Hall.jpg
ORGANIZER;CN="Central Indiana Land Trust":MAILTO:sfox@conservingindiana.org
END:VEVENT
BEGIN:VEVENT
DTSTART;TZID=UTC:20230913T100000
DTEND;TZID=UTC:20230913T130000
DTSTAMP:20260423T085559
CREATED:20230824T202310Z
LAST-MODIFIED:20230824T202310Z
UID:10000211-1694599200-1694610000@conservingindiana.org
SUMMARY:Help Pull Invasive Winter Creeper at Oliver's Woods
DESCRIPTION:Join our Stewardship team to get the preserve looking less “creepy”. \n\n\n\nAll Ages \nPlease RSVP so we know you’re coming. \nWhat to Expect and Bring: \n• Volunteers will remove plants by hand. \n• Dress in long pants thick enough to stand up to thorns\, brush\, poison ivy\, ticks\, and mosquitos (unfortunately leggings aren’t very protective). \n• Wear clothes you don’t mind getting dirty and closed-toed shoes that can stand up to mud. \n• Bring gardening or work gloves. If you don’t have gloves\, we will provide some. \n• Bring water bottle\, preferably refillable. \n• Dress for the weather as we will work rain or shine. \n• In case of inclement weather\, check email for updates. \nDirections: Oliver’s Woods is located at 8825 River Road Indianapolis\, Indiana. Please park in the parking lot adjacent to I-465 and meet staff on foot in front of the house. \nMore information on Wintercreeper: Wintercreeper is a vigorous vine that invades forest openings and margins. It grows across the ground\, displacing herbaceous plants and seedlings and climbs trees high into the tree canopy by clinging to the bark. Forest openings\, caused by wind\, insects\, or fire are especially vulnerable to invasion. \nWhat else can I do? After visiting an area that has invasive weeds present\, clean up before you leave the site. Make sure your clothes\, boots\, vehicles\, and pets are seed free. Use plants native to Central Indiana in your yard and garden.
URL:https://conservingindiana.org/event/help-pull-invasive-winter-creeper-at-olivers-woods-2/
LOCATION:Oliver’s Woods\, 8825 River Road\, Indianapolis\, United States
CATEGORIES:Volunteer event
ATTACH;FMTTYPE=image/jpeg:https://conservingindiana.org/wp-content/uploads/2023/08/winter-creeper-John-Hall.jpg
ORGANIZER;CN="Central Indiana Land Trust":MAILTO:sfox@conservingindiana.org
END:VEVENT
END:VCALENDAR