BEGIN:VCALENDAR
VERSION:2.0
PRODID:-//Central Indiana Land Trust - ECPv6.15.12//NONSGML v1.0//EN
CALSCALE:GREGORIAN
METHOD:PUBLISH
X-WR-CALNAME:Central Indiana Land Trust
X-ORIGINAL-URL:https://conservingindiana.org
X-WR-CALDESC:Events for Central Indiana Land Trust
REFRESH-INTERVAL;VALUE=DURATION:PT1H
X-Robots-Tag:noindex
X-PUBLISHED-TTL:PT1H
BEGIN:VTIMEZONE
TZID:UTC
BEGIN:STANDARD
TZOFFSETFROM:+0000
TZOFFSETTO:+0000
TZNAME:UTC
DTSTART:20220101T000000
END:STANDARD
END:VTIMEZONE
BEGIN:VEVENT
DTSTART;TZID=UTC:20230922T160000
DTEND;TZID=UTC:20230922T190000
DTSTAMP:20260423T084900
CREATED:20230824T183912Z
LAST-MODIFIED:20230824T183912Z
UID:10000084-1695398400-1695409200@conservingindiana.org
SUMMARY:Meet and Greet at the Historic Cottage at the Artcraft
DESCRIPTION:Join us for a Meet and Greet at the Cottage at the Historic Artcraft Theatre  to discuss our work in Johnson County and the rest of Central Indiana. \nEnjoy an afternoon of community\, conservation\, and a classic movie! \nEngaging Conversations: Connect with CILTI staff and board members\, fellow nature enthusiasts\, and members of our community who share a common commitment to safeguarding our lands. \nLocal Artist: Leah Faye Baker\, a local wildlife artist\, will be painting during the event and displaying some pieces of her work. \nGifts: All attendees will receive CILTI swag and can enter to win door prizes. \nLocal Flavors: Savor a delightful assortment of locally sourced refreshments as you mingle with like-minded individuals. \nClassic Movie: The Historic Artcraft Theatre will be showing “Singin’ in the Rain” at 2:30 pm and 7:30 pm on Friday and Saturday. CILTl is the concessions sponsor for all showings. Purchase tickets at historicartcrafttheatre.org and stop by to see us Friday between showings. \nNo RSVP is required. If you have any questions\, please contact Traci Willis at twillis@conservingindiana.org. \nBy joining us for this event\, you’re directly contributing to our ongoing efforts to protect and conserve Central Indiana’s natural treasures. Let’s come together to celebrate the beauty of our world and pave the way for a more sustainable future.
URL:https://conservingindiana.org/event/meet-and-greet-at-the-historic-cottage-at-the-artcraft/
LOCATION:Historic Artcraft Theatre\, 57 N. Main Street\, Franklin\, IN\, 46131\, United States
CATEGORIES:Member Celebration
ATTACH;FMTTYPE=image/jpeg:https://conservingindiana.org/wp-content/uploads/2023/08/Artcraft-elements-scaled-1.jpg
ORGANIZER;CN="Central Indiana Land Trust":MAILTO:sfox@conservingindiana.org
END:VEVENT
BEGIN:VEVENT
DTSTART;TZID=UTC:20230922T160000
DTEND;TZID=UTC:20230922T190000
DTSTAMP:20260423T084900
CREATED:20230824T183912Z
LAST-MODIFIED:20230824T183912Z
UID:10000210-1695398400-1695409200@conservingindiana.org
SUMMARY:Meet and Greet at the Historic Cottage at the Artcraft
DESCRIPTION:Join us for a Meet and Greet at the Cottage at the Historic Artcraft Theatre  to discuss our work in Johnson County and the rest of Central Indiana. \nEnjoy an afternoon of community\, conservation\, and a classic movie! \nEngaging Conversations: Connect with CILTI staff and board members\, fellow nature enthusiasts\, and members of our community who share a common commitment to safeguarding our lands. \nLocal Artist: Leah Faye Baker\, a local wildlife artist\, will be painting during the event and displaying some pieces of her work. \nGifts: All attendees will receive CILTI swag and can enter to win door prizes. \nLocal Flavors: Savor a delightful assortment of locally sourced refreshments as you mingle with like-minded individuals. \nClassic Movie: The Historic Artcraft Theatre will be showing “Singin’ in the Rain” at 2:30 pm and 7:30 pm on Friday and Saturday. CILTl is the concessions sponsor for all showings. Purchase tickets at historicartcrafttheatre.org and stop by to see us Friday between showings. \nNo RSVP is required. If you have any questions\, please contact Traci Willis at twillis@conservingindiana.org. \nBy joining us for this event\, you’re directly contributing to our ongoing efforts to protect and conserve Central Indiana’s natural treasures. Let’s come together to celebrate the beauty of our world and pave the way for a more sustainable future.
URL:https://conservingindiana.org/event/meet-and-greet-at-the-historic-cottage-at-the-artcraft-2/
LOCATION:Historic Artcraft Theatre\, 57 N. Main Street\, Franklin\, IN\, 46131\, United States
CATEGORIES:Member Celebration
ATTACH;FMTTYPE=image/jpeg:https://conservingindiana.org/wp-content/uploads/2023/08/Artcraft-elements-scaled-1.jpg
ORGANIZER;CN="Central Indiana Land Trust":MAILTO:sfox@conservingindiana.org
END:VEVENT
END:VCALENDAR