BEGIN:VCALENDAR
VERSION:2.0
PRODID:-//Central Indiana Land Trust - ECPv6.15.12//NONSGML v1.0//EN
CALSCALE:GREGORIAN
METHOD:PUBLISH
X-WR-CALNAME:Central Indiana Land Trust
X-ORIGINAL-URL:https://conservingindiana.org
X-WR-CALDESC:Events for Central Indiana Land Trust
REFRESH-INTERVAL;VALUE=DURATION:PT1H
X-Robots-Tag:noindex
X-PUBLISHED-TTL:PT1H
BEGIN:VTIMEZONE
TZID:UTC
BEGIN:STANDARD
TZOFFSETFROM:+0000
TZOFFSETTO:+0000
TZNAME:UTC
DTSTART:20220101T000000
END:STANDARD
END:VTIMEZONE
BEGIN:VEVENT
DTSTART;TZID=UTC:20231207T110000
DTEND;TZID=UTC:20231207T130000
DTSTAMP:20260423T144509
CREATED:20231205T145631Z
LAST-MODIFIED:20231205T145631Z
UID:10000218-1701946800-1701954000@conservingindiana.org
SUMMARY:Volunteers Needed for Seed Collection at Betley Woods
DESCRIPTION:We are looking for enthusiastic volunteers to help us collect seeds for conservation efforts. \nGo behind the scenes with our stewardship crew in a limited-access nature preserve\, Betley Woods at Glacier’s End. \nPlease RSVP (so we know to expect you) \nWhat to Expect \n\n\n\n\n\nParking spots for smaller vehicles are limited and you may need a vehicle with higher clearance/ability to navigate rough terrain.\nPlan to carpool\, if possible.\n\nWhat to Bring: \n\nComfortable clothes and sturdy shoes\nGloves and gardening tools (if available)\nA refillable water bottle\nA positive attitude and a willingness to get your hands dirty!\n\nDirections: \nBetley Woods at Glacier’s End is located on County Road 750 South in Trafalgar\, IN. Use this map to navigate to the location.
URL:https://conservingindiana.org/event/volunteers-needed-for-seed-collection-at-betley-woods-3/
LOCATION:IN
CATEGORIES:Volunteer event
ATTACH;FMTTYPE=image/jpeg:https://conservingindiana.org/wp-content/uploads/2023/12/seed-collection.jpg
ORGANIZER;CN="Central Indiana Land Trust":MAILTO:sfox@conservingindiana.org
END:VEVENT
BEGIN:VEVENT
DTSTART;TZID=UTC:20231207T110000
DTEND;TZID=UTC:20231207T130000
DTSTAMP:20260423T144509
CREATED:20231205T145631Z
LAST-MODIFIED:20231205T145631Z
UID:10000092-1701946800-1701954000@conservingindiana.org
SUMMARY:Volunteers Needed for Seed Collection at Betley Woods
DESCRIPTION:We are looking for enthusiastic volunteers to help us collect seeds for conservation efforts. \nGo behind the scenes with our stewardship crew in a limited-access nature preserve\, Betley Woods at Glacier’s End. \nPlease RSVP (so we know to expect you) \nWhat to Expect \n\n\n\n\n\nParking spots for smaller vehicles are limited and you may need a vehicle with higher clearance/ability to navigate rough terrain.\nPlan to carpool\, if possible.\n\nWhat to Bring: \n\nComfortable clothes and sturdy shoes\nGloves and gardening tools (if available)\nA refillable water bottle\nA positive attitude and a willingness to get your hands dirty!\n\nDirections: \nBetley Woods at Glacier’s End is located on County Road 750 South in Trafalgar\, IN. Use this map to navigate to the location.
URL:https://conservingindiana.org/event/volunteers-needed-for-seed-collection-at-betley-woods/
LOCATION:IN
CATEGORIES:Volunteer event
ATTACH;FMTTYPE=image/jpeg:https://conservingindiana.org/wp-content/uploads/2023/12/seed-collection.jpg
ORGANIZER;CN="Central Indiana Land Trust":MAILTO:sfox@conservingindiana.org
END:VEVENT
END:VCALENDAR