BEGIN:VCALENDAR
VERSION:2.0
PRODID:-//Central Indiana Land Trust - ECPv6.15.12//NONSGML v1.0//EN
CALSCALE:GREGORIAN
METHOD:PUBLISH
X-ORIGINAL-URL:https://conservingindiana.org
X-WR-CALDESC:Events for Central Indiana Land Trust
REFRESH-INTERVAL;VALUE=DURATION:PT1H
X-Robots-Tag:noindex
X-PUBLISHED-TTL:PT1H
BEGIN:VTIMEZONE
TZID:UTC
BEGIN:STANDARD
TZOFFSETFROM:+0000
TZOFFSETTO:+0000
TZNAME:UTC
DTSTART:20230101T000000
END:STANDARD
END:VTIMEZONE
BEGIN:VEVENT
DTSTART;TZID=UTC:20240404T100000
DTEND;TZID=UTC:20240404T130000
DTSTAMP:20260423T181518
CREATED:20240325T174018Z
LAST-MODIFIED:20240325T174018Z
UID:10000232-1712224800-1712235600@conservingindiana.org
SUMMARY:Tree Planting at White River Bluffs
DESCRIPTION:Help plant native trees and get to see a preserve that’s not open to the public. \nAll Ages \nPlease RSVP so we know to expect you. \nWhat to Expect and Bring: \n\nThe event will start promptly at 10 am and go until the work is done (may not last the full three hours).\nDress in long pants thick enough to stand up to thorns\, brush\, poison ivy\, ticks\, and mosquitos (unfortunately leggings aren’t very protective).\nBring gardening or work gloves. If you don’t have gloves\, we will provide some.\nWear closed-toe shoes and clothes you don’t mind getting dirty.\nDress for the weather as we will work rain or shine.\nBring your own water bottle.\nIn case of inclement weather\, check email for updates from staff.\n\nDirections: \nWhite River Bluffs Nature Preserve is located adjacent to Highland Golf and Country Club. Parking is by the tennis courts to the north of the club house. Our staff will meet you there. See attached map.
URL:https://conservingindiana.org/event/tree-planting-at-white-river-bluffs-2/
LOCATION:White River Bluffs\, 1050 West 52nd Street\, Indianapolis\, IN\, 46228\, United States
CATEGORIES:Volunteer event
ATTACH;FMTTYPE=image/jpeg:https://conservingindiana.org/wp-content/uploads/2024/03/boy-scouts.jpg
ORGANIZER;CN="Central Indiana Land Trust":MAILTO:sfox@conservingindiana.org
END:VEVENT
BEGIN:VEVENT
DTSTART;TZID=UTC:20240404T100000
DTEND;TZID=UTC:20240404T130000
DTSTAMP:20260423T181518
CREATED:20240325T174018Z
LAST-MODIFIED:20240325T174018Z
UID:10000106-1712224800-1712235600@conservingindiana.org
SUMMARY:Tree Planting at White River Bluffs
DESCRIPTION:Help plant native trees and get to see a preserve that’s not open to the public. \nAll Ages \nPlease RSVP so we know to expect you. \nWhat to Expect and Bring: \n\nThe event will start promptly at 10 am and go until the work is done (may not last the full three hours).\nDress in long pants thick enough to stand up to thorns\, brush\, poison ivy\, ticks\, and mosquitos (unfortunately leggings aren’t very protective).\nBring gardening or work gloves. If you don’t have gloves\, we will provide some.\nWear closed-toe shoes and clothes you don’t mind getting dirty.\nDress for the weather as we will work rain or shine.\nBring your own water bottle.\nIn case of inclement weather\, check email for updates from staff.\n\nDirections: \nWhite River Bluffs Nature Preserve is located adjacent to Highland Golf and Country Club. Parking is by the tennis courts to the north of the club house. Our staff will meet you there. See attached map.
URL:https://conservingindiana.org/event/tree-planting-at-white-river-bluffs/
LOCATION:White River Bluffs\, 1050 West 52nd Street\, Indianapolis\, IN\, 46228\, United States
CATEGORIES:Volunteer event
ATTACH;FMTTYPE=image/jpeg:https://conservingindiana.org/wp-content/uploads/2024/03/boy-scouts.jpg
ORGANIZER;CN="Central Indiana Land Trust":MAILTO:sfox@conservingindiana.org
END:VEVENT
END:VCALENDAR