BEGIN:VCALENDAR
VERSION:2.0
PRODID:-//Central Indiana Land Trust - ECPv6.15.12//NONSGML v1.0//EN
CALSCALE:GREGORIAN
METHOD:PUBLISH
X-ORIGINAL-URL:https://conservingindiana.org
X-WR-CALDESC:Events for Central Indiana Land Trust
REFRESH-INTERVAL;VALUE=DURATION:PT1H
X-Robots-Tag:noindex
X-PUBLISHED-TTL:PT1H
BEGIN:VTIMEZONE
TZID:UTC
BEGIN:STANDARD
TZOFFSETFROM:+0000
TZOFFSETTO:+0000
TZNAME:UTC
DTSTART:20230101T000000
END:STANDARD
END:VTIMEZONE
BEGIN:VEVENT
DTSTART;TZID=UTC:20240416T100000
DTEND;TZID=UTC:20240416T130000
DTSTAMP:20260423T192238
CREATED:20240311T190643Z
LAST-MODIFIED:20240311T190643Z
UID:10000222-1713261600-1713272400@conservingindiana.org
SUMMARY:Garlic Mustard Pull at Betley Woods at Glacier's End 4.16
DESCRIPTION:Help us welcome back native plants and wildlife by removing invasive garlic mustard from Betley Woods at Glacier’s End. \nSupport the health and resilience of this beautiful preserve by helping with invasive plant removal. Betley Woods at Glacier’s End is located in one of the most biodiverse forested areas of the state. \nAll Ages \nPlease RSVP so we know to expect you. \nWhat to Expect and Bring: \n\nVolunteers will remove plants by hand.\nThe terrain at this preserve is considered moderate.\nDress in long pants thick enough to stand up to thorns\, brush\, poison ivy\, ticks\, and mosquitos (unfortunately leggings aren’t very protective). Wear clothes you don’t mind getting dirty.\nWear closed-toed shoes that can stand up to mud.\nBring gardening or work gloves. If you don’t have gloves\, we will provide some.\nDress for the weather as we will work rain or shine.\nPublic restrooms not available.\nIn case of inclement weather\, check email for updates.\n\nDirections: \nWe will meet at the hayfield across from 2960 County Rd 750 S\, Trafalgar. (After making the turn onto 750 South\, pull into the hayfield directly across from this address\, next to a brown barn labeled “Split Acre Farms.”) \nMap: \nHere is a map detailing how to get to our gathering place. \nBetleyWoodsMap \nMore on Garlic Mustard (Alliaria petiolata) \nIt is an invasive plant species that spreads into high-quality woodlands\, upland and floodplain forests\, not just into disturbed areas. Garlic mustard alters habitat suitability for native plants\, insects\, and thereby birds and mammals. \nWhat else can I do? \nAfter visiting an area that has invasive weeds present\, clean up before you leave the site. Make sure your clothes\, boots\, vehicles\, and pets are seed free. Use plants native to Central Indiana in your yard and garden.
URL:https://conservingindiana.org/event/garlic-mustard-pull-at-betley-woods-at-glaciers-end-4-16-2/
LOCATION:Betley Woods at Glacier’s End\, W 750 South\, Trafalgar\, IN\, 46181\, United States
CATEGORIES:Volunteer event
ATTACH;FMTTYPE=image/jpeg:https://conservingindiana.org/wp-content/uploads/2024/03/FB-Inst-Aug-2023-scaled-1.jpg
ORGANIZER;CN="Central Indiana Land Trust":MAILTO:sfox@conservingindiana.org
END:VEVENT
BEGIN:VEVENT
DTSTART;TZID=UTC:20240416T100000
DTEND;TZID=UTC:20240416T130000
DTSTAMP:20260423T192238
CREATED:20240311T190643Z
LAST-MODIFIED:20240311T190643Z
UID:10000096-1713261600-1713272400@conservingindiana.org
SUMMARY:Garlic Mustard Pull at Betley Woods at Glacier's End 4.16
DESCRIPTION:Help us welcome back native plants and wildlife by removing invasive garlic mustard from Betley Woods at Glacier’s End. \nSupport the health and resilience of this beautiful preserve by helping with invasive plant removal. Betley Woods at Glacier’s End is located in one of the most biodiverse forested areas of the state. \nAll Ages \nPlease RSVP so we know to expect you. \nWhat to Expect and Bring: \n\nVolunteers will remove plants by hand.\nThe terrain at this preserve is considered moderate.\nDress in long pants thick enough to stand up to thorns\, brush\, poison ivy\, ticks\, and mosquitos (unfortunately leggings aren’t very protective). Wear clothes you don’t mind getting dirty.\nWear closed-toed shoes that can stand up to mud.\nBring gardening or work gloves. If you don’t have gloves\, we will provide some.\nDress for the weather as we will work rain or shine.\nPublic restrooms not available.\nIn case of inclement weather\, check email for updates.\n\nDirections: \nWe will meet at the hayfield across from 2960 County Rd 750 S\, Trafalgar. (After making the turn onto 750 South\, pull into the hayfield directly across from this address\, next to a brown barn labeled “Split Acre Farms.”) \nMap: \nHere is a map detailing how to get to our gathering place. \nBetleyWoodsMap \nMore on Garlic Mustard (Alliaria petiolata) \nIt is an invasive plant species that spreads into high-quality woodlands\, upland and floodplain forests\, not just into disturbed areas. Garlic mustard alters habitat suitability for native plants\, insects\, and thereby birds and mammals. \nWhat else can I do? \nAfter visiting an area that has invasive weeds present\, clean up before you leave the site. Make sure your clothes\, boots\, vehicles\, and pets are seed free. Use plants native to Central Indiana in your yard and garden.
URL:https://conservingindiana.org/event/garlic-mustard-pull-at-betley-woods-at-glaciers-end-4-16/
LOCATION:Betley Woods at Glacier’s End\, W 750 South\, Trafalgar\, IN\, 46181\, United States
CATEGORIES:Volunteer event
ATTACH;FMTTYPE=image/jpeg:https://conservingindiana.org/wp-content/uploads/2024/03/FB-Inst-Aug-2023-scaled-1.jpg
ORGANIZER;CN="Central Indiana Land Trust":MAILTO:sfox@conservingindiana.org
END:VEVENT
END:VCALENDAR