BEGIN:VCALENDAR
VERSION:2.0
PRODID:-//Central Indiana Land Trust - ECPv6.15.12//NONSGML v1.0//EN
CALSCALE:GREGORIAN
METHOD:PUBLISH
X-WR-CALNAME:Central Indiana Land Trust
X-ORIGINAL-URL:https://conservingindiana.org
X-WR-CALDESC:Events for Central Indiana Land Trust
REFRESH-INTERVAL;VALUE=DURATION:PT1H
X-Robots-Tag:noindex
X-PUBLISHED-TTL:PT1H
BEGIN:VTIMEZONE
TZID:UTC
BEGIN:STANDARD
TZOFFSETFROM:+0000
TZOFFSETTO:+0000
TZNAME:UTC
DTSTART:20220101T000000
END:STANDARD
END:VTIMEZONE
BEGIN:VEVENT
DTSTART;VALUE=DATE:20250425
DTEND;VALUE=DATE:20250429
DTSTAMP:20260420T065615
CREATED:20250312T184801Z
LAST-MODIFIED:20250312T184801Z
UID:10000251-1745539200-1745884799@conservingindiana.org
SUMMARY:The 2025 City Nature Challenge
DESCRIPTION:The 2025 City Nature Challenge is a community science event happening in over 600 cities across the world. Indianapolis (and environs) will be among the cities competing in this international event. Indiana Sciences is coordinating the local effort. \nThe four-day event asks community scientists to find and document as much urban nature as possible in their area. Explore your backyard\, or expand into local playgrounds\, parks\, and nature preserves to look for plants\, insects\, and animals. Document your findings with a photo\, and report them via the iNaturalist website or app. The goal is to develop a new baseline of a city’s biodiversity. \nFind out more here. \nRSVP \nTo register for the event\, you must have an iNaturalist account. After logging in\, click Join from the City Nature Challenge 2025: Indianapolis page. \nParticipating Counties \nThe following counties are included in the Indianapolis City Nature Challenge: \n\nBoone County\nBrown County\nHamilton County\nHancock County\nHendricks County\nJohnson County\nMadison County\nMarion County\nMorgan County\nPutnam County\nShelby County\n\nCILTI’s Involvement \nWe encourage everyone to visit our open nature preserves during this global event (April 25 to 28) and share your observations on iNaturalist. \nPublic preserves that fall within the geographic parameters include: Meltzer Woods\, Nonie Werbe Krauss Nature Preserve\, Oliver’s Woods\, Fred and Dorothy Meyer Nature Preserve\, the Laura Hare Preserve at Blossom Hollow\, and more! Use our Preserves page to plan your visits.
URL:https://conservingindiana.org/event/the-2025-city-nature-challenge/
CATEGORIES:Community Science
ATTACH;FMTTYPE=image/png:https://conservingindiana.org/wp-content/uploads/2025/03/Indianapolis-Skyline_CNC_2025_v02.png
END:VEVENT
BEGIN:VEVENT
DTSTART;TZID=UTC:20230507T130000
DTEND;TZID=UTC:20230507T150000
DTSTAMP:20260420T065615
CREATED:20230418T161807Z
LAST-MODIFIED:20230418T161807Z
UID:10000083-1683464400-1683471600@conservingindiana.org
SUMMARY:White River Alliance RAFT Open House at Oliver's Woods
DESCRIPTION:Come learn about White River Alliance’s River Assessment Field Team (RAFT) at Oliver’s Woods. \n\n\n\n\nJoin the White River Alliance’s River Assessment Field Team (RAFT) at a drop-in open house where you can learn about water science. At the RAFT demo station by the canoe launch\, you test your citizen science skills! Try water quality testing demos\, put on waders\, and learn more about the river whose watershed encompasses nearly 2 million acres in Central Indiana. This is a family-friendly event. \nYou are also welcome to explore Oliver’s Woods trails at your leisure. Find the chronolog station along Carmel Creek\, where you can contribute a photo to a timelapse compilation. Look for bald eagles over the White River and wildflowers in bloom in the forest. Spring is the best time to visit this preserve! \nAll Ages \nNo RSVP required. Optional: preregister to receive an email reminder. \nWhat to Expect and Bring: \n\nBring your curiosity and questions about the White River\, water quality\, and the science of water analysis.\nBring/wear socks for trying on waders.\nWear closed-toed shoes that can stand up to mud.\n\nDirections: Oliver’s Woods is located at 8825 River Road Indianapolis\, Indiana. Please park in the parking lot adjacent to I-465. A table will be set up by the river at the canoe launch. \nMore Information: Learn more about the White River Alliance and what the RAFT program is all about here: White River Alliance RAFT
URL:https://conservingindiana.org/event/white-river-alliance-raft-open-house-at-olivers-woods/
LOCATION:Oliver’s Woods\, 8825 River Road\, Indianapolis\, United States
CATEGORIES:Community Science
ATTACH;FMTTYPE=image/png:https://conservingindiana.org/wp-content/uploads/2023/04/RAFT-2-e1681834633934.png
END:VEVENT
BEGIN:VEVENT
DTSTART;TZID=UTC:20230507T130000
DTEND;TZID=UTC:20230507T150000
DTSTAMP:20260420T065615
CREATED:20230418T161807Z
LAST-MODIFIED:20230418T161807Z
UID:10000209-1683464400-1683471600@conservingindiana.org
SUMMARY:White River Alliance RAFT Open House at Oliver's Woods
DESCRIPTION:Come learn about White River Alliance’s River Assessment Field Team (RAFT) at Oliver’s Woods. \n\n\n\n\nJoin the White River Alliance’s River Assessment Field Team (RAFT) at a drop-in open house where you can learn about water science. At the RAFT demo station by the canoe launch\, you test your citizen science skills! Try water quality testing demos\, put on waders\, and learn more about the river whose watershed encompasses nearly 2 million acres in Central Indiana. This is a family-friendly event. \nYou are also welcome to explore Oliver’s Woods trails at your leisure. Find the chronolog station along Carmel Creek\, where you can contribute a photo to a timelapse compilation. Look for bald eagles over the White River and wildflowers in bloom in the forest. Spring is the best time to visit this preserve! \nAll Ages \nNo RSVP required. Optional: preregister to receive an email reminder. \nWhat to Expect and Bring: \n\nBring your curiosity and questions about the White River\, water quality\, and the science of water analysis.\nBring/wear socks for trying on waders.\nWear closed-toed shoes that can stand up to mud.\n\nDirections: Oliver’s Woods is located at 8825 River Road Indianapolis\, Indiana. Please park in the parking lot adjacent to I-465. A table will be set up by the river at the canoe launch. \nMore Information: Learn more about the White River Alliance and what the RAFT program is all about here: White River Alliance RAFT
URL:https://conservingindiana.org/event/white-river-alliance-raft-open-house-at-olivers-woods-2/
LOCATION:Oliver’s Woods\, 8825 River Road\, Indianapolis\, United States
CATEGORIES:Community Science
ATTACH;FMTTYPE=image/png:https://conservingindiana.org/wp-content/uploads/2023/04/RAFT-2-e1681834633934.png
END:VEVENT
END:VCALENDAR