BEGIN:VCALENDAR
VERSION:2.0
PRODID:-//Central Indiana Land Trust - ECPv6.15.12//NONSGML v1.0//EN
CALSCALE:GREGORIAN
METHOD:PUBLISH
X-ORIGINAL-URL:https://conservingindiana.org
X-WR-CALDESC:Events for Central Indiana Land Trust
REFRESH-INTERVAL;VALUE=DURATION:PT1H
X-Robots-Tag:noindex
X-PUBLISHED-TTL:PT1H
BEGIN:VTIMEZONE
TZID:UTC
BEGIN:STANDARD
TZOFFSETFROM:+0000
TZOFFSETTO:+0000
TZNAME:UTC
DTSTART:20230101T000000
END:STANDARD
END:VTIMEZONE
BEGIN:VEVENT
DTSTART;TZID=UTC:20240809T080000
DTEND;TZID=UTC:20240809T130000
DTSTAMP:20260424T224439
CREATED:20240722T183148Z
LAST-MODIFIED:20240722T183148Z
UID:10000115-1723190400-1723208400@conservingindiana.org
SUMMARY:Easy Float from Oliver’s Woods on the White River
DESCRIPTION:Join us as we board a Friends of White River raft for a short float on the White River. \nJoin Central Indiana Land Trust and Friends of White River (FOWR) for a scenic journey on the White River. We’ll paddle from the Oliver’s Woods canoe launch to Sandbar Island and back\, taking in the natural beauty along the way. FOWR guides will discuss the river’s history\, aquatic wildlife\, riparian flora\, environmental science\, shoreline\, and water quality. Upon reaching Sandbar Island\, we’ll have time to relax and investigate the island. \nWhether you’re an experienced paddler or a beginner\, this trip promises to be a memorable experience for all. Don’t miss this firsthand look at Central Indiana’s most valuable natural resource. \nPLEASE READ BELOW BEFORE RESERVING A SPOT.\nWhat to Expect and Bring: \n\nRSVP is required. \nThis event is appropriate for adults and children over the age of 14 with parent or legal guardian.\nTraining starts promptly at 8:30 to get familiar with the boats and the river.\nAll safety equipment and floats will be supplied by FOWR.\nWear waterproof sun protection.\nBring a water bottle.\nWear closed-toed shoes that can stand up to mud.\nDon’t plan to bring electronic equipment or phones unless they’re protected from the water. CILTI or FOWR will not be responsible for damaged equipment.\nRefund requests will be accepted only up to 72 hours before the event starts. Eventbrite fees are non-refundable. We encourage you to review your plans before reserving your spot.\nPlease note that payment for this event is not a donation and is not tax deductible.\nIn case of inclement weather\, check email for updates. Rain date will be August 23.\n\nDirections: \nOliver’s Woods is located at 8825 River Road\, Indianapolis\, Indiana. Please park in the parking lot adjacent to I-465 and meet staff on foot in front of the house. \nMore information/RSVP: \nFind more details and FAQs on EventBrite.
URL:https://conservingindiana.org/event/easy-float-from-olivers-woods-on-the-white-river/
LOCATION:Oliver’s Woods\, 8825 River Road\, Indianapolis\, United States
CATEGORIES:White River Float
ATTACH;FMTTYPE=image/jpeg:https://conservingindiana.org/wp-content/uploads/2024/07/FOWR-crop.jpg
ORGANIZER;CN="Central Indiana Land Trust":MAILTO:sfox@conservingindiana.org
END:VEVENT
BEGIN:VEVENT
DTSTART;TZID=UTC:20240809T080000
DTEND;TZID=UTC:20240809T130000
DTSTAMP:20260424T224439
CREATED:20240722T183148Z
LAST-MODIFIED:20240722T183148Z
UID:10000241-1723190400-1723208400@conservingindiana.org
SUMMARY:Easy Float from Oliver’s Woods on the White River
DESCRIPTION:Join us as we board a Friends of White River raft for a short float on the White River. \nJoin Central Indiana Land Trust and Friends of White River (FOWR) for a scenic journey on the White River. We’ll paddle from the Oliver’s Woods canoe launch to Sandbar Island and back\, taking in the natural beauty along the way. FOWR guides will discuss the river’s history\, aquatic wildlife\, riparian flora\, environmental science\, shoreline\, and water quality. Upon reaching Sandbar Island\, we’ll have time to relax and investigate the island. \nWhether you’re an experienced paddler or a beginner\, this trip promises to be a memorable experience for all. Don’t miss this firsthand look at Central Indiana’s most valuable natural resource. \nPLEASE READ BELOW BEFORE RESERVING A SPOT.\nWhat to Expect and Bring: \n\nRSVP is required. \nThis event is appropriate for adults and children over the age of 14 with parent or legal guardian.\nTraining starts promptly at 8:30 to get familiar with the boats and the river.\nAll safety equipment and floats will be supplied by FOWR.\nWear waterproof sun protection.\nBring a water bottle.\nWear closed-toed shoes that can stand up to mud.\nDon’t plan to bring electronic equipment or phones unless they’re protected from the water. CILTI or FOWR will not be responsible for damaged equipment.\nRefund requests will be accepted only up to 72 hours before the event starts. Eventbrite fees are non-refundable. We encourage you to review your plans before reserving your spot.\nPlease note that payment for this event is not a donation and is not tax deductible.\nIn case of inclement weather\, check email for updates. Rain date will be August 23.\n\nDirections: \nOliver’s Woods is located at 8825 River Road\, Indianapolis\, Indiana. Please park in the parking lot adjacent to I-465 and meet staff on foot in front of the house. \nMore information/RSVP: \nFind more details and FAQs on EventBrite.
URL:https://conservingindiana.org/event/easy-float-from-olivers-woods-on-the-white-river-2/
LOCATION:Oliver’s Woods\, 8825 River Road\, Indianapolis\, United States
CATEGORIES:White River Float
ATTACH;FMTTYPE=image/jpeg:https://conservingindiana.org/wp-content/uploads/2024/07/FOWR-crop.jpg
ORGANIZER;CN="Central Indiana Land Trust":MAILTO:sfox@conservingindiana.org
END:VEVENT
END:VCALENDAR