BEGIN:VCALENDAR
VERSION:2.0
PRODID:-//Central Indiana Land Trust - ECPv6.15.12//NONSGML v1.0//EN
CALSCALE:GREGORIAN
METHOD:PUBLISH
X-ORIGINAL-URL:https://conservingindiana.org
X-WR-CALDESC:Events for Central Indiana Land Trust
REFRESH-INTERVAL;VALUE=DURATION:PT1H
X-Robots-Tag:noindex
X-PUBLISHED-TTL:PT1H
BEGIN:VTIMEZONE
TZID:UTC
BEGIN:STANDARD
TZOFFSETFROM:+0000
TZOFFSETTO:+0000
TZNAME:UTC
DTSTART:20240101T000000
END:STANDARD
END:VTIMEZONE
BEGIN:VEVENT
DTSTART;TZID=UTC:20251025T100000
DTEND;TZID=UTC:20251025T120000
DTSTAMP:20260423T153824
CREATED:20251002T134759Z
LAST-MODIFIED:20251002T134759Z
UID:10000271-1761386400-1761393600@conservingindiana.org
SUMMARY:Hike into Autumn at Meltzer Woods
DESCRIPTION:Join us for a nature walk through the old growth forest of Meltzer Woods. \n\n\n\n\n\n\n\n\n\nStep into the season with a guided hike through the beauty of autumn. As the leaves turn and the air grows crisp\, the old growth forest bursts into vibrant fall colors. Enjoy the sights\, sounds\, and scents of nature preparing for winter\, and discover the unique changes that make this time of year so special. This autumn walk offers a perfect way to connect with the season. \nPlease RSVP so we know to expect you. \nWhat to Expect and Bring: \n• This is an easy\, 1.2 mile trail with steps to get over bridges. \n• Dress for the weather and be sure to wear pants thick enough to stand up to thorns\, brush\, poison ivy\, ticks\, and mosquitos (unfortunately leggings aren’t very protective). \n• Wear closed-toed shoes that can stand up to mud. \n• Bring a water bottle\, preferably refillable. \n• Restroom facilities are not available on site. \nDirections: \nMeltzer Woods is located near Shelbyville and is a short 35 minute drive from Indianapolis. From Indianapolis\, take I74 E to IN 244 E\, then turn left onto S 600 East. Staff will meet you in the parking lot.
URL:https://conservingindiana.org/event/hike-into-autumn-at-meltzer-woods/
LOCATION:Meltzer Woods\, 1522 S 600 E\, Shelbyville\, IN\, 46176\, United States
CATEGORIES:Hike
ATTACH;FMTTYPE=image/jpeg:https://conservingindiana.org/wp-content/uploads/2025/10/autumn-hike-2025.jpg
ORGANIZER;CN="Central Indiana Land Trust":MAILTO:sfox@conservingindiana.org
END:VEVENT
BEGIN:VEVENT
DTSTART;TZID=UTC:20251128T110000
DTEND;TZID=UTC:20251128T130000
DTSTAMP:20260423T153824
CREATED:20251023T175634Z
LAST-MODIFIED:20251023T175634Z
UID:10000272-1764327600-1764334800@conservingindiana.org
SUMMARY:Black Friday Hike at Portland Arch\, a National Natural Landmark
DESCRIPTION:“Opt outside” on the day after Thanksgiving: Join our President for a guided hike through a stunning nature preserve. \n\n\n\n\n\n\n\n\n\nOnce again on Black Friday\, we’ll host our popular Thanksgiving weekend hike. This year we are heading to Portland Arch Nature Preserve in Fountain County (west central Indiana). \nExplore the wooded valleys\, ravines\, and rocky cliffs marked by Bear Creek and Spring Creek. The 435-acre preserve features stunning terrain\, including a natural sandstone bridge carved by water. Portland Arch is one of only a few natural arches in our state. You’ll have the chance to see it up close\, as well as the plant community supported by this unique terrain. \nThe Indiana Department of Natural Resources owns this state-dedicated preserve\, which is also a National Natural Landmark. \n\nAll Ages\nPlease RSVP so we know to expect you.\n\nWhat to Expect and Bring: \n\nThe trail will be rugged and steep in some areas\, and possibly muddy.\nPart of the trail has a wooden staircase; steps may be slippery.\nDress for the weather and be sure to wear pants thick enough to stand up to thorns\, brush\, poison ivy\, ticks\, and the cold (unfortunately leggings aren’t very protective).\nWear closed-toed shoes that can stand up to mud.\nBring a water bottle\, preferably refillable.\nThere are no public restrooms on site.\n\nDirections: \nPortland Arch Nature Preserve (North Trail) \n1599 W Scout Camp Rd\, Covington\, IN 47932 \nFrom Attica go south on US 41 for about 5 miles and then west on CR 650N. Once in Fountain\, follow signs to the preserve. Park in the first of two parking lots\, where the trail leads to the arch.
URL:https://conservingindiana.org/event/black-friday-hike-at-portland-arch-a-national-natural-landmark/
LOCATION:Portland Arch Nature Preserve\, 1599 West Scout Camp Road\, Covington\, IN\, 47932\, United States
CATEGORIES:Hike
ATTACH;FMTTYPE=image/jpeg:https://conservingindiana.org/wp-content/uploads/2025/10/Portland-Arch.jpg
ORGANIZER;CN="Central Indiana Land Trust":MAILTO:sfox@conservingindiana.org
END:VEVENT
BEGIN:VEVENT
DTSTART;TZID=UTC:20260124T100000
DTEND;TZID=UTC:20260124T113000
DTSTAMP:20260423T153824
CREATED:20251217T141458Z
LAST-MODIFIED:20260121T145049Z
UID:10000273-1769248800-1769254200@conservingindiana.org
SUMMARY:CANCELED - Winter Tree ID Hike at Oliver's Woods
DESCRIPTION:Update: Due to extreme cold in the forecast\, we are canceling this event.\n\nLearn how to distinguish tree species in a winter landscape.\n\n\n\nTrees that shed their leaves have a beauty all their own. Volunteer White River Docents\, along with our stewardship specialist Phillip Weldy\, will lead the walk through this riverine nature preserve. Situated along the White River\, Oliver’s Woods Nature Preserve offers a nature immersion in the midst of a bustling commercial district. \nAll Ages \nWhat to Expect and Bring \n\nEasy\, 0.6-mile hike over a flat\, loop trail.\nFeel free to bring your own binoculars or scope for potential bird viewing.\nDress for the weather\, as we will be outside the entire event.\nNo restroom is available at this site.\n\nDirections \nOliver’s Woods is located at 8825 River Road Indianapolis\, Indiana. Please park in the parking lot adjacent to I-465 and meet staff on foot in front of the house.
URL:https://conservingindiana.org/event/winter-tree-id-hike-at-olivers-woods-3/
LOCATION:Oliver’s Woods\, 8825 River Road\, Indianapolis\, United States
CATEGORIES:Naturalist Program
ATTACH;FMTTYPE=image/jpeg:https://conservingindiana.org/wp-content/uploads/2021/11/tree-id-hike.jpg
ORGANIZER;CN="Central Indiana Land Trust":MAILTO:sfox@conservingindiana.org
END:VEVENT
BEGIN:VEVENT
DTSTART;TZID=UTC:20260411T100000
DTEND;TZID=UTC:20260411T120000
DTSTAMP:20260423T153824
CREATED:20260316T211105Z
LAST-MODIFIED:20260316T211255Z
UID:10000275-1775901600-1775908800@conservingindiana.org
SUMMARY:18th annual Spring Wildflower Walk at Burnett Woods
DESCRIPTION:Join our stewardship manager for a walk through the woods and a lovely wildflower display in the heart of Avon\, Indiana. \n\n\n\n\n\n\n\n\nBurnett Woods is one of the best nature preserves to enjoy spring wildflowers. Your guide will be stewardship manager Phillip Weldy\, who has helped manage the site for seven years. \nAll Ages \nFree of Charge – RSVP Required \nWhat to Expect and Bring: \n\nEasy\, 1.5-mile wildflower walk over a flat\, loop trail.\nDress in long pants thick enough to stand up to thorns\, brush\, poison ivy\, ticks\, and mosquitos.\nWear clothes you don’t mind getting dirty and closed-toed shoes that can stand up to mud.\nAthletic shoes may be slippery on the duckboards in wet conditions.\nPublic restrooms are not available.\nIn case of inclement weather\, check email for updates.\n\nDirections: \nAddress is 8264 E County Road 100 S Avon\, IN 46123. Parking is available at Light and Life Methodist Church\, 8264 E. County Road 100 South\, which is next door to the preserve. Park behind the church in the back row and walk in a southeastern direction across the grass toward the road. The trailhead is near the road\, behind the preserve sign.
URL:https://conservingindiana.org/event/18th-annual-spring-wildflower-walk-at-burnett-woods/
LOCATION:Burnett Woods\, 8264 E. County Road 100 South\, Avon\, IN\, 46123\, United States
CATEGORIES:Hike
ATTACH;FMTTYPE=image/jpeg:https://conservingindiana.org/wp-content/uploads/2025/03/Burnett-2024-and-2025.jpg
ORGANIZER;CN="Central Indiana Land Trust":MAILTO:sfox@conservingindiana.org
END:VEVENT
BEGIN:VEVENT
DTSTART;TZID=UTC:20260415T100000
DTEND;TZID=UTC:20260415T130000
DTSTAMP:20260423T153824
CREATED:20260317T203447Z
LAST-MODIFIED:20260318T173942Z
UID:10000276-1776247200-1776258000@conservingindiana.org
SUMMARY:Garlic Mustard Pull at Meltzer Woods in Shelby County 4.15
DESCRIPTION:Help us welcome back native plants and wildlife by removing invasive garlic mustard from Meltzer Woods. \n\n\n\n\n\n\n\n\nSupport the health and resilience of the old growth forest by helping with invasive plant removal. Meltzer Woods is a National Natural Landmark and one of our most beloved preserves. \nAll Ages \nPlease RSVP so we know to expect you. \nWhat to Expect and Bring: \n\n\n\nVolunteers will remove plants by hand.\nDress in long pants thick enough to stand up to thorns\, brush\, poison ivy\, ticks\, and mosquitos. Wear clothes you don’t mind getting dirty.\nWear closed-toed shoes that can stand up to mud.\nAthletic shoes may be too slippery on the duckboards.\nBring gardening or work gloves. If you don’t have gloves\, we will provide some.\nDress for the weather as we will work rain or shine.\nPublic restrooms not available.\nIn case of inclement weather\, check email for updates.\n\nDirections: \nMeltzer Woods is located near Shelbyville and is a short 35-minute drive from Indianapolis. From Indianapolis\, take I74 E to IN 244 E\, then turn left onto S 600 East. Staff will meet you in the parking lot. Map:@Meltzer Woods \nMore Garlic Mustard Pulls at Meltzer Woods: \n\nClick for April 22\nClick for April 29\n\nMore on Garlic Mustard (Alliaria petiolata) \nThis invasive plant species spreads into high-quality woodlands\, upland and floodplain forests\, not just into disturbed areas. Garlic mustard alters habitat suitability for native plants\, insects\, and thereby birds and mammals. \nWhat else can I do? \nAfter visiting an area that has invasive weeds present\, clean up before you leave the site. Make sure your clothes\, boots\, vehicles\, and pets are seed free. Use plants native to Central Indiana in your yard and garden.
URL:https://conservingindiana.org/event/garlic-mustard-pull-at-meltzer-woods-in-shelby-county-4-15/
LOCATION:Meltzer Woods\, 1522 S 600 E\, Shelbyville\, IN\, 46176\, United States
CATEGORIES:Volunteer event
ATTACH;FMTTYPE=image/jpeg:https://conservingindiana.org/wp-content/uploads/2026/03/garlic-mustard-pull-photo-by-Dick-Miller-scaled.jpg
ORGANIZER;CN="Central Indiana Land Trust":MAILTO:sfox@conservingindiana.org
END:VEVENT
BEGIN:VEVENT
DTSTART;TZID=UTC:20260422T100000
DTEND;TZID=UTC:20260422T130000
DTSTAMP:20260423T153824
CREATED:20260318T170255Z
LAST-MODIFIED:20260318T173958Z
UID:10000277-1776852000-1776862800@conservingindiana.org
SUMMARY:Garlic Mustard Pull at Meltzer Woods in Shelby County 4.22
DESCRIPTION:Help us welcome back native plants and wildlife by removing invasive garlic mustard from Meltzer Woods. \n\n\n\n\n\n\n\n\nSpend part of your Earth Day supporting the health and resilience of the old growth forest by helping with invasive plant removal. Meltzer Woods is a National Natural Landmark and one of our most beloved preserves. \nAll Ages \nPlease RSVP so we know to expect you. \nWhat to Expect and Bring: \n\n\n\nVolunteers will remove plants by hand.\nDress in long pants thick enough to stand up to thorns\, brush\, poison ivy\, ticks\, and mosquitos. Wear clothes you don’t mind getting dirty.\nWear closed-toed shoes that can stand up to mud.\nAthletic shoes may be too slippery on the duckboards.\nBring gardening or work gloves. If you don’t have gloves\, we will provide some.\nDress for the weather as we will work rain or shine.\nPublic restrooms not available.\nIn case of inclement weather\, check email for updates.\n\nDirections: \nMeltzer Woods is located near Shelbyville and is a short 35-minute drive from Indianapolis. From Indianapolis\, take I74 E to IN 244 E\, then turn left onto S 600 East. Staff will meet you in the parking lot. Map:@Meltzer Woods \nMore Garlic Mustard Pulls at Meltzer Woods: \n\nClick for April 15\nClick for April 29\n\nMore on Garlic Mustard (Alliaria petiolata) \nThis invasive plant species spreads into high-quality woodlands\, upland and floodplain forests\, not just into disturbed areas. Garlic mustard alters habitat suitability for native plants\, insects\, and thereby birds and mammals. \nWhat else can I do? \nAfter visiting an area that has invasive weeds present\, clean up before you leave the site. Make sure your clothes\, boots\, vehicles\, and pets are seed free. Use plants native to Central Indiana in your yard and garden.
URL:https://conservingindiana.org/event/garlic-mustard-pull-at-meltzer-woods-in-shelby-county-4-22/
LOCATION:Meltzer Woods\, 1522 S 600 E\, Shelbyville\, IN\, 46176\, United States
CATEGORIES:Volunteer event
ATTACH;FMTTYPE=image/jpeg:https://conservingindiana.org/wp-content/uploads/2026/03/garlic-mustard-pull-photo-by-Dick-Miller-scaled.jpg
ORGANIZER;CN="Central Indiana Land Trust":MAILTO:sfox@conservingindiana.org
END:VEVENT
BEGIN:VEVENT
DTSTART;TZID=UTC:20260429T100000
DTEND;TZID=UTC:20260429T130000
DTSTAMP:20260423T153824
CREATED:20260318T170441Z
LAST-MODIFIED:20260318T174526Z
UID:10000278-1777456800-1777467600@conservingindiana.org
SUMMARY:Garlic Mustard Pull at Meltzer Woods in Shelby County 4.29
DESCRIPTION:Help us welcome back native plants and wildlife by removing invasive garlic mustard from Meltzer Woods. \n\n\n\n\n\n\n\n\nSupport the health and resilience of the old growth forest by helping with invasive plant removal. Meltzer Woods is a National Natural Landmark and one of our most beloved preserves. \nAll Ages \nPlease RSVP so we know to expect you. \nWhat to Expect and Bring: \n\n\n\nVolunteers will remove plants by hand.\nDress in long pants thick enough to stand up to thorns\, brush\, poison ivy\, ticks\, and mosquitos. Wear clothes you don’t mind getting dirty.\nWear closed-toed shoes that can stand up to mud.\nAthletic shoes may be too slippery on the duckboards.\nBring gardening or work gloves. If you don’t have gloves\, we will provide some.\nDress for the weather as we will work rain or shine.\nPublic restrooms not available.\nIn case of inclement weather\, check email for updates.\n\nDirections: \nMeltzer Woods is located near Shelbyville and is a short 35-minute drive from Indianapolis. From Indianapolis\, take I74 E to IN 244 E\, then turn left onto S 600 East. Staff will meet you in the parking lot. Map:@Meltzer Woods \nMore Garlic Mustard Pulls at Meltzer Woods: \n\nClick for April 15\nClick for April 22\n\nMore on Garlic Mustard (Alliaria petiolata) \nThis invasive plant species spreads into high-quality woodlands\, upland and floodplain forests\, not just into disturbed areas. Garlic mustard alters habitat suitability for native plants\, insects\, and thereby birds and mammals. \nWhat else can I do? \nAfter visiting an area that has invasive weeds present\, clean up before you leave the site. Make sure your clothes\, boots\, vehicles\, and pets are seed free. Use plants native to Central Indiana in your yard and garden.
URL:https://conservingindiana.org/event/garlic-mustard-pull-at-meltzer-woods-in-shelby-county-4-29/
LOCATION:Meltzer Woods\, 1522 S 600 E\, Shelbyville\, IN\, 46176\, United States
CATEGORIES:Volunteer event
ATTACH;FMTTYPE=image/jpeg:https://conservingindiana.org/wp-content/uploads/2026/03/garlic-mustard-pull-photo-by-Dick-Miller-scaled.jpg
ORGANIZER;CN="Central Indiana Land Trust":MAILTO:sfox@conservingindiana.org
END:VEVENT
END:VCALENDAR