BEGIN:VCALENDAR
VERSION:2.0
PRODID:-//Central Indiana Land Trust - ECPv6.15.12//NONSGML v1.0//EN
CALSCALE:GREGORIAN
METHOD:PUBLISH
X-ORIGINAL-URL:https://conservingindiana.org
X-WR-CALDESC:Events for Central Indiana Land Trust
REFRESH-INTERVAL;VALUE=DURATION:PT1H
X-Robots-Tag:noindex
X-PUBLISHED-TTL:PT1H
BEGIN:VTIMEZONE
TZID:America/New_York
BEGIN:DAYLIGHT
TZOFFSETFROM:-0500
TZOFFSETTO:-0400
TZNAME:EDT
DTSTART:20210314T070000
END:DAYLIGHT
BEGIN:STANDARD
TZOFFSETFROM:-0400
TZOFFSETTO:-0500
TZNAME:EST
DTSTART:20211107T060000
END:STANDARD
BEGIN:DAYLIGHT
TZOFFSETFROM:-0500
TZOFFSETTO:-0400
TZNAME:EDT
DTSTART:20220313T070000
END:DAYLIGHT
BEGIN:STANDARD
TZOFFSETFROM:-0400
TZOFFSETTO:-0500
TZNAME:EST
DTSTART:20221106T060000
END:STANDARD
BEGIN:DAYLIGHT
TZOFFSETFROM:-0500
TZOFFSETTO:-0400
TZNAME:EDT
DTSTART:20230312T070000
END:DAYLIGHT
BEGIN:STANDARD
TZOFFSETFROM:-0400
TZOFFSETTO:-0500
TZNAME:EST
DTSTART:20231105T060000
END:STANDARD
END:VTIMEZONE
BEGIN:VEVENT
DTSTART;TZID=America/New_York:20220714T183000
DTEND;TZID=America/New_York:20220714T200000
DTSTAMP:20260425T151412
CREATED:20220615T193331Z
LAST-MODIFIED:20220615T193331Z
UID:10000051-1657823400-1657828800@conservingindiana.org
SUMMARY:Firefly Night at Oliver’s Woods
DESCRIPTION:Enjoy an evening hike at Oliver’s Woods and learn what we all can do to help our native fireflies flourish. \n\n\nAbout this event\n\n\n\nAll Ages \nFree – RSVP Required \nWhat to Expect and Bring \n\nDress in long pants thick enough to stand up to thorns\, brush\, poison ivy\, ticks\, and mosquitos (unfortunately leggings aren’t very protective).\nWear closed-toed shoes that can stand up to mud.\nWear clothes you don’t mind getting dirty.\n\nRegistration: \nPlease preregister through Eventbrite so we know to expect you. \nDirections \nOliver’s Woods is located at 8825 River Road Indianapolis\, Indiana. Please park in the parking lot adjacent to I-465 and meet staff on foot in front of the house.
URL:https://conservingindiana.org/event/firefly-night-at-olivers-woods/
LOCATION:Oliver’s Woods\, 8825 River Road\, Indianapolis\, United States
CATEGORIES:Education
ATTACH;FMTTYPE=image/jpeg:https://conservingindiana.org/wp-content/uploads/2022/06/Fireflies-2-res.jpeg
ORGANIZER;CN="Central Indiana Land Trust":MAILTO:sfox@conservingindiana.org
END:VEVENT
BEGIN:VEVENT
DTSTART;TZID=America/New_York:20220714T183000
DTEND;TZID=America/New_York:20220714T200000
DTSTAMP:20260425T151412
CREATED:20220615T193331Z
LAST-MODIFIED:20220615T193331Z
UID:10000177-1657823400-1657828800@conservingindiana.org
SUMMARY:Firefly Night at Oliver’s Woods
DESCRIPTION:Enjoy an evening hike at Oliver’s Woods and learn what we all can do to help our native fireflies flourish. \n\n\nAbout this event\n\n\n\nAll Ages \nFree – RSVP Required \nWhat to Expect and Bring \n\nDress in long pants thick enough to stand up to thorns\, brush\, poison ivy\, ticks\, and mosquitos (unfortunately leggings aren’t very protective).\nWear closed-toed shoes that can stand up to mud.\nWear clothes you don’t mind getting dirty.\n\nRegistration: \nPlease preregister through Eventbrite so we know to expect you. \nDirections \nOliver’s Woods is located at 8825 River Road Indianapolis\, Indiana. Please park in the parking lot adjacent to I-465 and meet staff on foot in front of the house.
URL:https://conservingindiana.org/event/firefly-night-at-olivers-woods-2/
LOCATION:Oliver’s Woods\, 8825 River Road\, Indianapolis\, United States
CATEGORIES:Education
ATTACH;FMTTYPE=image/jpeg:https://conservingindiana.org/wp-content/uploads/2022/06/Fireflies-2-res.jpeg
ORGANIZER;CN="Central Indiana Land Trust":MAILTO:sfox@conservingindiana.org
END:VEVENT
END:VCALENDAR