BEGIN:VCALENDAR
VERSION:2.0
PRODID:-//Central Indiana Land Trust - ECPv6.15.12//NONSGML v1.0//EN
CALSCALE:GREGORIAN
METHOD:PUBLISH
X-ORIGINAL-URL:https://conservingindiana.org
X-WR-CALDESC:Events for Central Indiana Land Trust
REFRESH-INTERVAL;VALUE=DURATION:PT1H
X-Robots-Tag:noindex
X-PUBLISHED-TTL:PT1H
BEGIN:VTIMEZONE
TZID:UTC
BEGIN:STANDARD
TZOFFSETFROM:+0000
TZOFFSETTO:+0000
TZNAME:UTC
DTSTART:20210101T000000
END:STANDARD
END:VTIMEZONE
BEGIN:VEVENT
DTSTART;TZID=UTC:20221210T100000
DTEND;TZID=UTC:20221210T113000
DTSTAMP:20260423T072458
CREATED:20221110T190401Z
LAST-MODIFIED:20221110T190401Z
UID:10000061-1670666400-1670671800@conservingindiana.org
SUMMARY:Tree ID Walk at Oliver's Woods
DESCRIPTION:Learn how to distinguish tree species in a winter landscape. \nTrees that shed their leaves have a beauty all their own. Join our White River Steward\, Grace van Kan\, in a walk through this riverine nature preserve to welcome the turning of the season. Situated along the White River\, Oliver’s Woods Nature Preserve offers a nature immersion in the midst of a bustling commercial district. \nAll Ages \nFree of Charge – RSVP Required \nWhat to Expect and Bring \n\nEasy\, 0.6-mile hike over a flat\, loop trail.\nFeel free to bring your own binoculars or scope for potential bird viewing.\nDress for the weather\, as we will be outside the entire event.\nNo restroom is available at this site.\n\nRegistration: \nPlease preregister through Eventbrite so we know to expect you. \nDirections \nOliver’s Woods is located at 8825 River Road Indianapolis\, Indiana. Please park in the parking lot adjacent to I-465 and meet staff on foot in front of the house. @Oliver’s Woods.
URL:https://conservingindiana.org/event/tree-id-walk-at-olivers-woods/
LOCATION:Oliver’s Woods\, 8825 River Road\, Indianapolis\, United States
CATEGORIES:Hike
ATTACH;FMTTYPE=image/jpeg:https://conservingindiana.org/wp-content/uploads/2022/11/tree-id-hike.jpg
ORGANIZER;CN="Central Indiana Land Trust":MAILTO:sfox@conservingindiana.org
END:VEVENT
BEGIN:VEVENT
DTSTART;TZID=UTC:20221210T100000
DTEND;TZID=UTC:20221210T113000
DTSTAMP:20260423T072458
CREATED:20221110T190401Z
LAST-MODIFIED:20221110T190401Z
UID:10000187-1670666400-1670671800@conservingindiana.org
SUMMARY:Tree ID Walk at Oliver's Woods
DESCRIPTION:Learn how to distinguish tree species in a winter landscape. \nTrees that shed their leaves have a beauty all their own. Join our White River Steward\, Grace van Kan\, in a walk through this riverine nature preserve to welcome the turning of the season. Situated along the White River\, Oliver’s Woods Nature Preserve offers a nature immersion in the midst of a bustling commercial district. \nAll Ages \nFree of Charge – RSVP Required \nWhat to Expect and Bring \n\nEasy\, 0.6-mile hike over a flat\, loop trail.\nFeel free to bring your own binoculars or scope for potential bird viewing.\nDress for the weather\, as we will be outside the entire event.\nNo restroom is available at this site.\n\nRegistration: \nPlease preregister through Eventbrite so we know to expect you. \nDirections \nOliver’s Woods is located at 8825 River Road Indianapolis\, Indiana. Please park in the parking lot adjacent to I-465 and meet staff on foot in front of the house. @Oliver’s Woods.
URL:https://conservingindiana.org/event/tree-id-walk-at-olivers-woods-2/
LOCATION:Oliver’s Woods\, 8825 River Road\, Indianapolis\, United States
CATEGORIES:Hike
ATTACH;FMTTYPE=image/jpeg:https://conservingindiana.org/wp-content/uploads/2022/11/tree-id-hike.jpg
ORGANIZER;CN="Central Indiana Land Trust":MAILTO:sfox@conservingindiana.org
END:VEVENT
END:VCALENDAR