BEGIN:VCALENDAR
VERSION:2.0
PRODID:-//Central Indiana Land Trust - ECPv6.15.12//NONSGML v1.0//EN
CALSCALE:GREGORIAN
METHOD:PUBLISH
X-WR-CALNAME:Central Indiana Land Trust
X-ORIGINAL-URL:https://conservingindiana.org
X-WR-CALDESC:Events for Central Indiana Land Trust
REFRESH-INTERVAL;VALUE=DURATION:PT1H
X-Robots-Tag:noindex
X-PUBLISHED-TTL:PT1H
BEGIN:VTIMEZONE
TZID:America/New_York
BEGIN:DAYLIGHT
TZOFFSETFROM:-0500
TZOFFSETTO:-0400
TZNAME:EDT
DTSTART:20220313T070000
END:DAYLIGHT
BEGIN:STANDARD
TZOFFSETFROM:-0400
TZOFFSETTO:-0500
TZNAME:EST
DTSTART:20221106T060000
END:STANDARD
BEGIN:DAYLIGHT
TZOFFSETFROM:-0500
TZOFFSETTO:-0400
TZNAME:EDT
DTSTART:20230312T070000
END:DAYLIGHT
BEGIN:STANDARD
TZOFFSETFROM:-0400
TZOFFSETTO:-0500
TZNAME:EST
DTSTART:20231105T060000
END:STANDARD
BEGIN:DAYLIGHT
TZOFFSETFROM:-0500
TZOFFSETTO:-0400
TZNAME:EDT
DTSTART:20240310T070000
END:DAYLIGHT
BEGIN:STANDARD
TZOFFSETFROM:-0400
TZOFFSETTO:-0500
TZNAME:EST
DTSTART:20241103T060000
END:STANDARD
END:VTIMEZONE
BEGIN:VEVENT
DTSTART;TZID=America/New_York:20230322T100000
DTEND;TZID=America/New_York:20230322T130000
DTSTAMP:20260423T040314
CREATED:20230227T214500Z
LAST-MODIFIED:20230227T214500Z
UID:10000068-1679479200-1679490000@conservingindiana.org
SUMMARY:Cleanup Day at Oliver's Woods
DESCRIPTION:Join us to get ready for Spring by clearing invasive plants and trash at Oliver’s Woods. \n\n\nAbout this event\nAll Ages \nPlease RSVP (so we know to expect you) \nWhat to Expect and Bring \n• Volunteers will remove the plants and roots by hand. \n• Trash will be removed by hand. We’ll supply bags and tools. \n• Dress in long pants thick enough to stand up to thorns\, brush\, poison ivy\, ticks\, and mosquitos (unfortunately leggings aren’t very protective). \n• Bring gardening or work gloves. If you don’t have gloves\, we will provide some. \n• Wear clothes you don’t mind getting dirty. \n• Wear closed-toed shoes that can stand up to mud. \n• Dress for the weather as we will work rain or shine. \nDirections \nOliver’s Woods is located at 8825 River Road Indianapolis\, Indiana. Please park in the parking lot adjacent to I-465 and meet staff on foot in front of the house.
URL:https://conservingindiana.org/event/clean-up-day-at-olivers-woods/
LOCATION:Oliver’s Woods\, 8825 River Road\, Indianapolis\, United States
CATEGORIES:Volunteer event
ATTACH;FMTTYPE=image/jpeg:https://conservingindiana.org/wp-content/uploads/2023/02/Volunteers-OW-Clean-Up.jpeg
ORGANIZER;CN="Central Indiana Land Trust":MAILTO:sfox@conservingindiana.org
END:VEVENT
BEGIN:VEVENT
DTSTART;TZID=America/New_York:20230322T100000
DTEND;TZID=America/New_York:20230322T130000
DTSTAMP:20260423T040314
CREATED:20230227T214500Z
LAST-MODIFIED:20230227T214500Z
UID:10000194-1679479200-1679490000@conservingindiana.org
SUMMARY:Cleanup Day at Oliver's Woods
DESCRIPTION:Join us to get ready for Spring by clearing invasive plants and trash at Oliver’s Woods. \n\n\nAbout this event\nAll Ages \nPlease RSVP (so we know to expect you) \nWhat to Expect and Bring \n• Volunteers will remove the plants and roots by hand. \n• Trash will be removed by hand. We’ll supply bags and tools. \n• Dress in long pants thick enough to stand up to thorns\, brush\, poison ivy\, ticks\, and mosquitos (unfortunately leggings aren’t very protective). \n• Bring gardening or work gloves. If you don’t have gloves\, we will provide some. \n• Wear clothes you don’t mind getting dirty. \n• Wear closed-toed shoes that can stand up to mud. \n• Dress for the weather as we will work rain or shine. \nDirections \nOliver’s Woods is located at 8825 River Road Indianapolis\, Indiana. Please park in the parking lot adjacent to I-465 and meet staff on foot in front of the house.
URL:https://conservingindiana.org/event/clean-up-day-at-olivers-woods-2/
LOCATION:Oliver’s Woods\, 8825 River Road\, Indianapolis\, United States
CATEGORIES:Volunteer event
ATTACH;FMTTYPE=image/jpeg:https://conservingindiana.org/wp-content/uploads/2023/02/Volunteers-OW-Clean-Up.jpeg
ORGANIZER;CN="Central Indiana Land Trust":MAILTO:sfox@conservingindiana.org
END:VEVENT
BEGIN:VEVENT
DTSTART;TZID=America/New_York:20230329T100000
DTEND;TZID=America/New_York:20230329T130000
DTSTAMP:20260423T040314
CREATED:20230227T215836Z
LAST-MODIFIED:20230227T215836Z
UID:10000069-1680084000-1680094800@conservingindiana.org
SUMMARY:Cleanup Day at White River Bluffs in Marion County
DESCRIPTION:Join us to pick up the stray tennis and golf balls at White River Bluffs. \n\n\nAbout this event\nGuess what happens when a nature preserve is next door to a golf and tennis club? You have a lot of stray balls that end up scattered along the perimeter of the property. Please join us to gather up these orbs as part of our stewardship plan for White River Bluffs. \nAll Ages \nPlease RSVP (so we know to expect you) \nWhat to Expect and Bring: \n\nVolunteers will pick up trash and balls by hand.\nThere may be some heavy lifting required.\nDress in long pants thick enough to stand up to thorns\, brush\, poison ivy\, ticks\, and mosquitos (unfortunately leggings aren’t very protective).\nWear closed-toed shoes that can stand up to mud.\nBring gardening or work gloves. If you don’t have gloves\, we will provide some.\nWear clothes you don’t mind getting dirty.\nDress for the weather as we will work rain or shine.\n\nDirections: \nWhite River Bluffs Nature Preserve is located adjacent to Highland Golf and Country Club. Parking is by the tennis courts to the north of the club house. Our staff will meet you there. See attached map.
URL:https://conservingindiana.org/event/cleanup-day-at-white-river-bluffs-in-marion-county/
LOCATION:White River Bluffs\, 1050 West 52nd Street\, Indianapolis\, IN\, 46228\, United States
CATEGORIES:Volunteer event
ATTACH;FMTTYPE=image/jpeg:https://conservingindiana.org/wp-content/uploads/2023/02/WRB-Clean-Up.jpg
ORGANIZER;CN="Central Indiana Land Trust":MAILTO:sfox@conservingindiana.org
END:VEVENT
BEGIN:VEVENT
DTSTART;TZID=America/New_York:20230329T100000
DTEND;TZID=America/New_York:20230329T130000
DTSTAMP:20260423T040314
CREATED:20230227T215836Z
LAST-MODIFIED:20230227T215836Z
UID:10000195-1680084000-1680094800@conservingindiana.org
SUMMARY:Cleanup Day at White River Bluffs in Marion County
DESCRIPTION:Join us to pick up the stray tennis and golf balls at White River Bluffs. \n\n\nAbout this event\nGuess what happens when a nature preserve is next door to a golf and tennis club? You have a lot of stray balls that end up scattered along the perimeter of the property. Please join us to gather up these orbs as part of our stewardship plan for White River Bluffs. \nAll Ages \nPlease RSVP (so we know to expect you) \nWhat to Expect and Bring: \n\nVolunteers will pick up trash and balls by hand.\nThere may be some heavy lifting required.\nDress in long pants thick enough to stand up to thorns\, brush\, poison ivy\, ticks\, and mosquitos (unfortunately leggings aren’t very protective).\nWear closed-toed shoes that can stand up to mud.\nBring gardening or work gloves. If you don’t have gloves\, we will provide some.\nWear clothes you don’t mind getting dirty.\nDress for the weather as we will work rain or shine.\n\nDirections: \nWhite River Bluffs Nature Preserve is located adjacent to Highland Golf and Country Club. Parking is by the tennis courts to the north of the club house. Our staff will meet you there. See attached map.
URL:https://conservingindiana.org/event/cleanup-day-at-white-river-bluffs-in-marion-county-2/
LOCATION:White River Bluffs\, 1050 West 52nd Street\, Indianapolis\, IN\, 46228\, United States
CATEGORIES:Volunteer event
ATTACH;FMTTYPE=image/jpeg:https://conservingindiana.org/wp-content/uploads/2023/02/WRB-Clean-Up.jpg
ORGANIZER;CN="Central Indiana Land Trust":MAILTO:sfox@conservingindiana.org
END:VEVENT
END:VCALENDAR