BEGIN:VCALENDAR
VERSION:2.0
PRODID:-//Central Indiana Land Trust - ECPv6.15.12//NONSGML v1.0//EN
CALSCALE:GREGORIAN
METHOD:PUBLISH
X-WR-CALNAME:Central Indiana Land Trust
X-ORIGINAL-URL:https://conservingindiana.org
X-WR-CALDESC:Events for Central Indiana Land Trust
REFRESH-INTERVAL;VALUE=DURATION:PT1H
X-Robots-Tag:noindex
X-PUBLISHED-TTL:PT1H
BEGIN:VTIMEZONE
TZID:UTC
BEGIN:STANDARD
TZOFFSETFROM:+0000
TZOFFSETTO:+0000
TZNAME:UTC
DTSTART:20230101T000000
END:STANDARD
END:VTIMEZONE
BEGIN:VEVENT
DTSTART;TZID=UTC:20240718T193000
DTEND;TZID=UTC:20240718T210000
DTSTAMP:20260423T231326
CREATED:20240404T134233Z
LAST-MODIFIED:20240404T134233Z
UID:10000109-1721331000-1721336400@conservingindiana.org
SUMMARY:Welcome to the Dark Side: Mothing in Indiana with Jeanette Jaskula
DESCRIPTION:Join us for the Golden Hour Summer Series at Oliver’s Woods. In July\, we’re featuring moths. \n\n\n\n\n\n\n\n**Tickets will be available on June 1st**\n\nJeanette Jaskula\, President of Friends of the Sands\, will share the joy of moths\, from their stunning colors\, patterns\, and behaviors to their important role in our ecosystems as pollinators and members of the food web. Learn how to attract moths to your backyard with native plants. You can even contribute your moth sightings to the Great American Indiana Nature Lepidoptera Project (GAINLP). We will gather inside the Daugherty House for a presentation at 7:30 pm\, then walk the preserve in search of local moth populations. \n\nAll Ages\n\n\nRSVP is required. The event is limited to 25 people\, including children over 2 years old.\nTickets are limited to 4 per reservation.\n\nWhat to Expect and Bring: \n\nThis presentation will start at 7:30 pm.\nIf you have a headlamp\, please bring it. We will have a few available to share with the group.\n\n\nDress for the weather and be sure to wear pants thick enough to stand up to thorns\, brush\, poison ivy\, ticks\, and mosquitos (unfortunately leggings aren’t very protective).\n\n\nWear closed-toed shoes that can stand up to mud.\n\nDirections: Oliver’s Woods is located at 8825 River Road Indianapolis\, Indiana. Please park in the parking lot adjacent to I-465 and meet the staff at the house. Please plan to arrive on time. \nMore Information: Jeannette Jaskula is president of Friends of the Sands\, an all-volunteer group that promotes the natural areas and heritage of the Kankakee Sands region in Newton County\, Indiana. \n\n\n\n\n\n\n\nMany thanks to our Golden Hour sponsor\, Robert Dietrick Company\, for making this series possible!
URL:https://conservingindiana.org/event/welcome-to-the-dark-side-mothing-in-indiana-with-jeanette-jaskula-2/
LOCATION:Oliver’s Woods\, 8825 River Road\, Indianapolis\, United States
CATEGORIES:Naturalist Program
ATTACH;FMTTYPE=image/jpeg:https://conservingindiana.org/wp-content/uploads/2024/03/MOTH1-cover.jpg
ORGANIZER;CN="Central Indiana Land Trust":MAILTO:sfox@conservingindiana.org
END:VEVENT
BEGIN:VEVENT
DTSTART;TZID=UTC:20240718T193000
DTEND;TZID=UTC:20240718T210000
DTSTAMP:20260423T231326
CREATED:20240404T134233Z
LAST-MODIFIED:20240404T134233Z
UID:10000235-1721331000-1721336400@conservingindiana.org
SUMMARY:Welcome to the Dark Side: Mothing in Indiana with Jeanette Jaskula
DESCRIPTION:Join us for the Golden Hour Summer Series at Oliver’s Woods. In July\, we’re featuring moths. \n\n\n\n\n\n\n\n**Tickets will be available on June 1st**\n\nJeanette Jaskula\, President of Friends of the Sands\, will share the joy of moths\, from their stunning colors\, patterns\, and behaviors to their important role in our ecosystems as pollinators and members of the food web. Learn how to attract moths to your backyard with native plants. You can even contribute your moth sightings to the Great American Indiana Nature Lepidoptera Project (GAINLP). We will gather inside the Daugherty House for a presentation at 7:30 pm\, then walk the preserve in search of local moth populations. \n\nAll Ages\n\n\nRSVP is required. The event is limited to 25 people\, including children over 2 years old.\nTickets are limited to 4 per reservation.\n\nWhat to Expect and Bring: \n\nThis presentation will start at 7:30 pm.\nIf you have a headlamp\, please bring it. We will have a few available to share with the group.\n\n\nDress for the weather and be sure to wear pants thick enough to stand up to thorns\, brush\, poison ivy\, ticks\, and mosquitos (unfortunately leggings aren’t very protective).\n\n\nWear closed-toed shoes that can stand up to mud.\n\nDirections: Oliver’s Woods is located at 8825 River Road Indianapolis\, Indiana. Please park in the parking lot adjacent to I-465 and meet the staff at the house. Please plan to arrive on time. \nMore Information: Jeannette Jaskula is president of Friends of the Sands\, an all-volunteer group that promotes the natural areas and heritage of the Kankakee Sands region in Newton County\, Indiana. \n\n\n\n\n\n\n\nMany thanks to our Golden Hour sponsor\, Robert Dietrick Company\, for making this series possible!
URL:https://conservingindiana.org/event/welcome-to-the-dark-side-mothing-in-indiana-with-jeanette-jaskula-2-2/
LOCATION:Oliver’s Woods\, 8825 River Road\, Indianapolis\, United States
CATEGORIES:Naturalist Program
ATTACH;FMTTYPE=image/jpeg:https://conservingindiana.org/wp-content/uploads/2024/03/MOTH1-cover.jpg
ORGANIZER;CN="Central Indiana Land Trust":MAILTO:sfox@conservingindiana.org
END:VEVENT
END:VCALENDAR