BEGIN:VCALENDAR
VERSION:2.0
PRODID:-//Central Indiana Land Trust - ECPv6.15.12//NONSGML v1.0//EN
CALSCALE:GREGORIAN
METHOD:PUBLISH
X-WR-CALNAME:Central Indiana Land Trust
X-ORIGINAL-URL:https://conservingindiana.org
X-WR-CALDESC:Events for Central Indiana Land Trust
REFRESH-INTERVAL;VALUE=DURATION:PT1H
X-Robots-Tag:noindex
X-PUBLISHED-TTL:PT1H
BEGIN:VTIMEZONE
TZID:UTC
BEGIN:STANDARD
TZOFFSETFROM:+0000
TZOFFSETTO:+0000
TZNAME:UTC
DTSTART:20220101T000000
END:STANDARD
END:VTIMEZONE
BEGIN:VEVENT
DTSTART;TZID=UTC:20251011T090000
DTEND;TZID=UTC:20251011T110000
DTSTAMP:20260423T084229
CREATED:20240912T135147Z
LAST-MODIFIED:20251002T142119Z
UID:10000116-1760173200-1760180400@conservingindiana.org
SUMMARY:October Big Day Hike at Betley Woods and More
DESCRIPTION:Join an expert birder to go birdwatching in Betley Woods at Glacier’s End!  \nBetley Woods is a hotspot for migratory birds on the Mississippi Flyway. You can witness this timeless journey with an experienced birder this fall! On one Big Day in October\, experience the wonder of the fall migration with an expert guide\, Mike Clay. \nMultiple sites are taking part in this Big Day\, so spread the word across the state! \nAll ages \nRSVP required (please RSVP for your preferred site) \nWhat to Expect and Bring: \n\nCamera\, scope\, and/or binoculars\, if you have them.\nTrails are considered moderate and might not be suitable for all hikers.\nDress for the weather and be sure to wear pants thick enough to stand up to thorns\, brush\, poison ivy\, ticks\, and mosquitos (unfortunately leggings aren’t very protective).\nWear clothes you don’t mind getting dirty and closed-toed shoes that can stand up to mud.\nNo restrooms available on site.\n\nRSVP \nPlease click here to preregister via Eventbrite so we know to expect you. \nLocation: \nBetley Woods is located on County Road 750 South in Trafalgar\, IN. Use this map to navigate to the site. \nTrail development was made possible thanks to the generosity of the Johnson County Community Foundation and the state’s Next Level Trails program\, in partnership with the Indiana Wildlife Federation. \nMore Information: \nOctober Big Day is a global event that unites people worldwide in a shared passion for birds\, sparking a movement to observe\, celebrate\, and protect our feathered friends. Founded by the Cornell Lab of Ornithology\, this 24-hour event challenges bird enthusiasts to spot as many species as possible\, generating vital data on bird migration and inspiring a deeper appreciation for both resident and migratory species. \nIndiana Audubon and Indiana Land Protection Alliance (ILPA) are partnering for the fourth consecutive year to bring you the October Big Day Hikes at 18 unique locations across Indiana\, showcasing the state’s incredible range of habitats and biodiverse hotspots. Space is limited to ensure a personalized experience for each participant\, so sign up soon!
URL:https://conservingindiana.org/event/october-big-day-hike-at-betley-woods-and-more/
LOCATION:Betley Woods at Glacier’s End\, W 750 South\, Trafalgar\, IN\, 46181\, United States
CATEGORIES:Naturalist Program
ATTACH;FMTTYPE=image/jpeg:https://conservingindiana.org/wp-content/uploads/2024/09/Big-day-2025.jpg
END:VEVENT
BEGIN:VEVENT
DTSTART;TZID=UTC:20241123T103000
DTEND;TZID=UTC:20241123T123000
DTSTAMP:20260423T084229
CREATED:20241010T192532Z
LAST-MODIFIED:20241010T192532Z
UID:10000245-1732357800-1732365000@conservingindiana.org
SUMMARY:Woodpeckers with Wes: Young Birders Walk
DESCRIPTION:Wander with Wes Homoya and Indiana Audubon on a woodpecker walk! The Indiana Young Birders Network is an engaging and inclusive community fostering a love for nature and birding. Our goal is to provide a safe\, fun\, and welcoming environment for youth birders to learn and grow through hands-on experiences\, educational demonstrations\, and more. \nParents are more than welcome to come along for the birding adventure! This is a family-friendly guided bird walk for all ages and experience levels. Please bring binoculars if you have them. Dress appropriately for the weather and wear comfortable hiking boots. \nRSVP \nReserve your spot by visiting Audubon’s event page. \nParking \nParking is available at Light and Life Methodist Church\, 8264 E. County Road 100 South\, next door to the preserve. \nRegistration \nThis event is free but registration is required. \nAccessibility \nThis excursion includes a moderate walk within Burnett Woods Nature Preserve. We will stroll through the woods and make frequent stops to look at birds. \nQuestions \nFor any questions about this event or the Indiana Young Birders Network\, contact info@indianaaudubon.org.
URL:https://conservingindiana.org/event/woodpeckers-with-wes-young-birders-walk-2/
LOCATION:Burnett Woods\, 8264 E. County Road 100 South\, Avon\, IN\, 46123\, United States
CATEGORIES:Naturalist Program
ATTACH;FMTTYPE=image/jpeg:https://conservingindiana.org/wp-content/uploads/2024/10/Woodpeckers-with-Wes.jpg
END:VEVENT
BEGIN:VEVENT
DTSTART;TZID=UTC:20241123T103000
DTEND;TZID=UTC:20241123T123000
DTSTAMP:20260423T084229
CREATED:20241010T192532Z
LAST-MODIFIED:20241010T192532Z
UID:10000119-1732357800-1732365000@conservingindiana.org
SUMMARY:Woodpeckers with Wes: Young Birders Walk
DESCRIPTION:Wander with Wes Homoya and Indiana Audubon on a woodpecker walk! The Indiana Young Birders Network is an engaging and inclusive community fostering a love for nature and birding. Our goal is to provide a safe\, fun\, and welcoming environment for youth birders to learn and grow through hands-on experiences\, educational demonstrations\, and more. \nParents are more than welcome to come along for the birding adventure! This is a family-friendly guided bird walk for all ages and experience levels. Please bring binoculars if you have them. Dress appropriately for the weather and wear comfortable hiking boots. \nRSVP \nReserve your spot by visiting Audubon’s event page. \nParking \nParking is available at Light and Life Methodist Church\, 8264 E. County Road 100 South\, next door to the preserve. \nRegistration \nThis event is free but registration is required. \nAccessibility \nThis excursion includes a moderate walk within Burnett Woods Nature Preserve. We will stroll through the woods and make frequent stops to look at birds. \nQuestions \nFor any questions about this event or the Indiana Young Birders Network\, contact info@indianaaudubon.org.
URL:https://conservingindiana.org/event/woodpeckers-with-wes-young-birders-walk/
LOCATION:Burnett Woods\, 8264 E. County Road 100 South\, Avon\, IN\, 46123\, United States
CATEGORIES:Naturalist Program
ATTACH;FMTTYPE=image/jpeg:https://conservingindiana.org/wp-content/uploads/2024/10/Woodpeckers-with-Wes.jpg
END:VEVENT
BEGIN:VEVENT
DTSTART;TZID=UTC:20241123T080000
DTEND;TZID=UTC:20241123T100000
DTSTAMP:20260423T084229
CREATED:20241010T191506Z
LAST-MODIFIED:20241010T191506Z
UID:10000118-1732348800-1732356000@conservingindiana.org
SUMMARY:Flock and Learn: Woodpecker Walk for Beginner Birders
DESCRIPTION:Join Indiana Audubon for a beginner’s bird walk at Burnett Woods Nature Preserve. We will look for woodpeckers and other forest dwellers on this educational excursion. Come learn about the seven woodpecker species found in Indiana and practice your bird identification skills. All levels of experience are welcome! \nMeet Wes Homoya for this walk at the Light and Life Methodist Church parking lot (8264 E. County Road 100 South)\, which is next door to the preserve. \nRSVP\nReserve your spot by visiting Audubon’s event page. \nParticipant Limit\nThe birding group is limited to 20 participants\, ensuring a more engaging experience as you learn about the diverse bird species inhabiting the park. RSVP here\, \nAccessibility\nThis field trip includes a moderate 1.5-mile-long walk through the preserve. If you have questions or specific needs\, please contact us at info@indianaaudubon.org. \nQuestions\nFor any inquiries about this trip\, email us at info@indianaaudubon.org.
URL:https://conservingindiana.org/event/flock-and-learn-woodpecker-walk-for-beginner-birders/
LOCATION:Burnett Woods\, 8264 E. County Road 100 South\, Avon\, IN\, 46123\, United States
CATEGORIES:Naturalist Program
ATTACH;FMTTYPE=image/jpeg:https://conservingindiana.org/wp-content/uploads/2024/10/flock-and-learn-audubon.jpg
END:VEVENT
BEGIN:VEVENT
DTSTART;TZID=UTC:20241123T080000
DTEND;TZID=UTC:20241123T100000
DTSTAMP:20260423T084229
CREATED:20241010T191506Z
LAST-MODIFIED:20241010T191506Z
UID:10000244-1732348800-1732356000@conservingindiana.org
SUMMARY:Flock and Learn: Woodpecker Walk for Beginner Birders
DESCRIPTION:Join Indiana Audubon for a beginner’s bird walk at Burnett Woods Nature Preserve. We will look for woodpeckers and other forest dwellers on this educational excursion. Come learn about the seven woodpecker species found in Indiana and practice your bird identification skills. All levels of experience are welcome! \nMeet Wes Homoya for this walk at the Light and Life Methodist Church parking lot (8264 E. County Road 100 South)\, which is next door to the preserve. \nRSVP\nReserve your spot by visiting Audubon’s event page. \nParticipant Limit\nThe birding group is limited to 20 participants\, ensuring a more engaging experience as you learn about the diverse bird species inhabiting the park. RSVP here\, \nAccessibility\nThis field trip includes a moderate 1.5-mile-long walk through the preserve. If you have questions or specific needs\, please contact us at info@indianaaudubon.org. \nQuestions\nFor any inquiries about this trip\, email us at info@indianaaudubon.org.
URL:https://conservingindiana.org/event/flock-and-learn-woodpecker-walk-for-beginner-birders-2/
LOCATION:Burnett Woods\, 8264 E. County Road 100 South\, Avon\, IN\, 46123\, United States
CATEGORIES:Naturalist Program
ATTACH;FMTTYPE=image/jpeg:https://conservingindiana.org/wp-content/uploads/2024/10/flock-and-learn-audubon.jpg
END:VEVENT
BEGIN:VEVENT
DTSTART;TZID=UTC:20241012T090000
DTEND;TZID=UTC:20241012T110000
DTSTAMP:20260423T084229
CREATED:20240912T135147Z
LAST-MODIFIED:20240912T135147Z
UID:10000242-1728723600-1728730800@conservingindiana.org
SUMMARY:October Big Day Hike at Betley Woods and More
DESCRIPTION:Join an expert birder to go birdwatching in Betley Woods at Glacier’s End!  \nBetley Woods is a hotspot for migratory birds on the Mississippi Flyway. You can witness this timeless journey with an experienced birder this fall! On one Big Day in October\, experience the wonder of the fall migration with an expert guide\, Mike Clay. \nMultiple sites are taking part in this Big Day\, so spread the word across the state! \nAll ages \nFree of Charge – RSVP required (please RSVP for your preferred site) \nWhat to Expect and Bring: \n\nCamera\, scope\, and/or binoculars\, if you have them.\nTrails are considered moderate and might not be suitable for all hikers.\nDress for the weather and be sure to wear pants thick enough to stand up to thorns\, brush\, poison ivy\, ticks\, and mosquitos (unfortunately leggings aren’t very protective).\nWear clothes you don’t mind getting dirty and closed-toed shoes that can stand up to mud.\nNo restrooms available on site.\n\nRSVP \nPlease click here to preregister via Eventbrite so we know to expect you. \nLocation: \nBetley Woods is located on County Road 750 South in Trafalgar\, IN. Use this map to navigate to the site. \nTrail development was made possible thanks to the generosity of the Johnson County Community Foundation and the state’s Next Level Trails program\, in partnership with the Indiana Wildlife Federation. \nMore Information: \nOctober Big Day is a global event that unites people worldwide in a shared passion for birds\, sparking a movement to observe\, celebrate\, and protect our feathered friends. Founded by the Cornell Lab of Ornithology\, this 24-hour event challenges bird enthusiasts to spot as many species as possible\, generating vital data on bird migration and inspiring a deeper appreciation for both resident and migratory species. \nIndiana Audubon and Indiana Land Protection Alliance (ILPA) are partnering for the third consecutive year to bring you the October Big Day Hikes at 18 unique locations across Indiana\, showcasing the state’s incredible range of habitats and biodiverse hotspots. Space is limited to ensure a personalized experience for each participant\, so sign up soon!
URL:https://conservingindiana.org/event/october-big-day-hike-at-betley-woods-and-more-2/
LOCATION:Betley Woods at Glacier’s End\, W 750 South\, Trafalgar\, IN\, 46181\, United States
CATEGORIES:Naturalist Program
ATTACH;FMTTYPE=image/png:https://conservingindiana.org/wp-content/uploads/2024/09/octoberbigday_2024_featuredimage-1536x768-1.png
END:VEVENT
BEGIN:VEVENT
DTSTART;TZID=UTC:20240428T140000
DTEND;TZID=UTC:20240428T180000
DTSTAMP:20260423T084229
CREATED:20240416T192059Z
LAST-MODIFIED:20240416T192059Z
UID:10000113-1714312800-1714327200@conservingindiana.org
SUMMARY:Feathers & Fermentation: Get Sprung! Birds and Blooms of Spring
DESCRIPTION:Our good friend Wes Homoya\, birder extraordinaire\, will lead a special birding birding event at the Fred and Dorothy Meyer Nature Preserve. \nJoin Wes – a native Hoosier\, avid birder\, experienced guide\, and passionate conservationist – as we explore nature and enjoy quality adult beverages. \nWe meet and begin our adventure at 2pm at everyone’s favorite local family cidery – Ash & Elm Cider Co. – for introductions\, a guided tasting\, some time to have a glass of your preferred style\, and an opportunity to purchase cider for the road trip (bring your growlers\, if you like). \nOnce we’re loaded up with drinks\, we’ll load the buses and venture our way southwest to Morgan County to a special Central Indiana Land Trust property known as the Fred & Dorothy Meyer Nature Preserve. Located just south of Mooresville\, this site is unique due to it being one of the northernmost unglaciated landscapes within the state\, providing a taste of the southern Indiana hill country without having to drive too far from Indy. We’ll enjoy the majesty of tall trees\, the beauty of spring wildflowers\, and the thrill of migrating birds. Note that the terrain includes some steep slopes during the ~1.5 mile hike. \nAfterwards\, we’ll head back north to Plainfield’s Nigh Brewing for drinks and further conversation before journeying back east to Ash & Elm\, arriving ~630pm to hang out\, eat\, drink more cider\, and chat about birds until you’re ready to head home. \nPlease dress appropriately for the weather and bring binoculars if you have them (we will have a limited amount available for those who need them). Whether you’ve never been birding before or consider yourself an expert\, you are most welcome! \nBottled water and cups will be provided on the bus. This event is open to participants aged 21 and older\, with a cost of $45 per person\, and all profits will be divided to support the Indiana Audubon and Central Indiana Land Trust.
URL:https://conservingindiana.org/event/feathers-fermentation-get-sprung-birds-and-blooms-of-spring/
LOCATION:Fred and Dorothy Meyer Nature Preserve\, 2380 Observatory Rd\, Martinsville\, United States
CATEGORIES:Hike
ATTACH;FMTTYPE=image/jpeg:https://conservingindiana.org/wp-content/uploads/2020/02/5-25-10-047-new-website-blog-post-resized.jpg
END:VEVENT
BEGIN:VEVENT
DTSTART;TZID=UTC:20240428T140000
DTEND;TZID=UTC:20240428T180000
DTSTAMP:20260423T084229
CREATED:20240416T192059Z
LAST-MODIFIED:20240416T192059Z
UID:10000239-1714312800-1714327200@conservingindiana.org
SUMMARY:Feathers & Fermentation: Get Sprung! Birds and Blooms of Spring
DESCRIPTION:Our good friend Wes Homoya\, birder extraordinaire\, will lead a special birding birding event at the Fred and Dorothy Meyer Nature Preserve. \nJoin Wes – a native Hoosier\, avid birder\, experienced guide\, and passionate conservationist – as we explore nature and enjoy quality adult beverages. \nWe meet and begin our adventure at 2pm at everyone’s favorite local family cidery – Ash & Elm Cider Co. – for introductions\, a guided tasting\, some time to have a glass of your preferred style\, and an opportunity to purchase cider for the road trip (bring your growlers\, if you like). \nOnce we’re loaded up with drinks\, we’ll load the buses and venture our way southwest to Morgan County to a special Central Indiana Land Trust property known as the Fred & Dorothy Meyer Nature Preserve. Located just south of Mooresville\, this site is unique due to it being one of the northernmost unglaciated landscapes within the state\, providing a taste of the southern Indiana hill country without having to drive too far from Indy. We’ll enjoy the majesty of tall trees\, the beauty of spring wildflowers\, and the thrill of migrating birds. Note that the terrain includes some steep slopes during the ~1.5 mile hike. \nAfterwards\, we’ll head back north to Plainfield’s Nigh Brewing for drinks and further conversation before journeying back east to Ash & Elm\, arriving ~630pm to hang out\, eat\, drink more cider\, and chat about birds until you’re ready to head home. \nPlease dress appropriately for the weather and bring binoculars if you have them (we will have a limited amount available for those who need them). Whether you’ve never been birding before or consider yourself an expert\, you are most welcome! \nBottled water and cups will be provided on the bus. This event is open to participants aged 21 and older\, with a cost of $45 per person\, and all profits will be divided to support the Indiana Audubon and Central Indiana Land Trust.
URL:https://conservingindiana.org/event/feathers-fermentation-get-sprung-birds-and-blooms-of-spring-2/
LOCATION:Fred and Dorothy Meyer Nature Preserve\, 2380 Observatory Rd\, Martinsville\, United States
CATEGORIES:Hike
ATTACH;FMTTYPE=image/jpeg:https://conservingindiana.org/wp-content/uploads/2020/02/5-25-10-047-new-website-blog-post-resized.jpg
END:VEVENT
BEGIN:VEVENT
DTSTART;TZID=UTC:20231014T090000
DTEND;TZID=UTC:20231014T110000
DTSTAMP:20260423T084229
CREATED:20230901T145259Z
LAST-MODIFIED:20230901T145259Z
UID:10000216-1697274000-1697281200@conservingindiana.org
SUMMARY:October Big Day Hike at Oliver's Woods and More
DESCRIPTION:Join an expert birder to go birdwatching in Oliver’s Woods Nature Preserve! \nOliver’s Woods is a hotspot for migratory birds on the Mississippi Flyway. You can witness this timeless journey with an experienced birder this fall! On one Big Day in October\, experience the wonder of the fall migration with an expert guide. \nMultiple sites are taking part in this Big Day\, so spread the word across the state! \nAll ages \nFree of Charge – RSVP required (please RSVP for your preferred site) \nWhat to Expect and Bring: \n\nCamera\, scope\, and/or binoculars\, if you have them.\nDress for the weather and be sure to wear pants thick enough to stand up to thorns\, brush\, poison ivy\, ticks\, and mosquitos (unfortunately leggings aren’t very protective).\nWear closed-toed shoes that can stand up to mud.\n\nRSVP \nPlease click here to preregister via Eventbrite so we know to expect you. \nDirections: \nOliver’s Woods is located at 8825 River Road Indianapolis\, Indiana. Please park in the parking lot adjacent to I-465 and follow the trail to the discussion circle. Please plan to arrive on time. \nMore Information: \nOctober 8 is known to birders worldwide as the “October Big Day\,” a global celebration of birds. For the second year year\, Indiana Audubon Society experts will lead free bird walks at nature preserves across the state. The Indiana Land Protection Alliance is again coordinating the event with land trusts statewide. \nOnly 15 people can take part at each site\, so register soon for our guided walk\, or find one near you!​
URL:https://conservingindiana.org/event/october-big-day-hike-at-olivers-woods-and-more-2/
LOCATION:Oliver’s Woods\, 8825 River Road\, Indianapolis\, United States
CATEGORIES:Naturalist Program
ATTACH;FMTTYPE=image/png:https://conservingindiana.org/wp-content/uploads/2023/09/OctoberBigDay_Facebook-01.png
END:VEVENT
BEGIN:VEVENT
DTSTART;TZID=UTC:20231014T090000
DTEND;TZID=UTC:20231014T110000
DTSTAMP:20260423T084229
CREATED:20230901T145259Z
LAST-MODIFIED:20230901T145259Z
UID:10000090-1697274000-1697281200@conservingindiana.org
SUMMARY:October Big Day Hike at Oliver's Woods and More
DESCRIPTION:Join an expert birder to go birdwatching in Oliver’s Woods Nature Preserve! \nOliver’s Woods is a hotspot for migratory birds on the Mississippi Flyway. You can witness this timeless journey with an experienced birder this fall! On one Big Day in October\, experience the wonder of the fall migration with an expert guide. \nMultiple sites are taking part in this Big Day\, so spread the word across the state! \nAll ages \nFree of Charge – RSVP required (please RSVP for your preferred site) \nWhat to Expect and Bring: \n\nCamera\, scope\, and/or binoculars\, if you have them.\nDress for the weather and be sure to wear pants thick enough to stand up to thorns\, brush\, poison ivy\, ticks\, and mosquitos (unfortunately leggings aren’t very protective).\nWear closed-toed shoes that can stand up to mud.\n\nRSVP \nPlease click here to preregister via Eventbrite so we know to expect you. \nDirections: \nOliver’s Woods is located at 8825 River Road Indianapolis\, Indiana. Please park in the parking lot adjacent to I-465 and follow the trail to the discussion circle. Please plan to arrive on time. \nMore Information: \nOctober 8 is known to birders worldwide as the “October Big Day\,” a global celebration of birds. For the second year year\, Indiana Audubon Society experts will lead free bird walks at nature preserves across the state. The Indiana Land Protection Alliance is again coordinating the event with land trusts statewide. \nOnly 15 people can take part at each site\, so register soon for our guided walk\, or find one near you!​
URL:https://conservingindiana.org/event/october-big-day-hike-at-olivers-woods-and-more/
LOCATION:Oliver’s Woods\, 8825 River Road\, Indianapolis\, United States
CATEGORIES:Naturalist Program
ATTACH;FMTTYPE=image/png:https://conservingindiana.org/wp-content/uploads/2023/09/OctoberBigDay_Facebook-01.png
END:VEVENT
END:VCALENDAR